BEGIN:VCALENDAR
VERSION:2.0
PRODID:http://www.gelsenkirchen.de
METHOD:PUBLISH
BEGIN:VTIMEZONE
TZID:Europe/Berlin
BEGIN:DAYLIGHT
TZOFFSETFROM:+0100
TZOFFSETTO:+0200
DTSTART:19810329T020000
RRULE:FREQ=YEARLY;BYMONTH=3;BYDAY=-1SU
TZNAME:CEST
END:DAYLIGHT
BEGIN:STANDARD
TZOFFSETFROM:+0200
TZOFFSETTO:+0100
DTSTART:19961027T030000
RRULE:FREQ=YEARLY;BYMONTH=10;BYDAY=-1SU
TZNAME:CET
END:STANDARD
END:VTIMEZONE
BEGIN:VEVENT
UID:94526
ORGANIZER;CN="GeKita" :MAILTO:Kita@GeKita.de
LOCATION:Städt. Tageseinrichtung für Kinder und Familienzentrum Herforder Str. 7, Herforder Str. 7, 45892 Gelsenkirchen
SUMMARY:Mein Kind kommt in die Schule
DESCRIPTION:Wenn ein Kind eingeschult wird, beginnt für die gesamte Familie ein neuer Lebensabschnitt. Bei diesem Angebot erfahren Sie, wie Sie Ihr Kind auf diesen großen Tag optimal vorbereiten können, damit der Schulbeginn und die Zeit danach für alle positiv wird. Anmeldungen im Familienzentrum Herforderstraße unter der Telefonnummer 
CLASS:PUBLIC
DTSTART;TZID=Europe/Berlin:20260423T140100
DTEND;TZID=Europe/Berlin:20260423T160700
DTSTAMP:20060812T125900Z
END:VEVENT
END:VCALENDAR