BEGIN:VCALENDAR
VERSION:2.0
PRODID:http://www.gelsenkirchen.de
METHOD:PUBLISH
BEGIN:VTIMEZONE
TZID:Europe/Berlin
BEGIN:DAYLIGHT
TZOFFSETFROM:+0100
TZOFFSETTO:+0200
DTSTART:19810329T020000
RRULE:FREQ=YEARLY;BYMONTH=3;BYDAY=-1SU
TZNAME:CEST
END:DAYLIGHT
BEGIN:STANDARD
TZOFFSETFROM:+0200
TZOFFSETTO:+0100
DTSTART:19961027T030000
RRULE:FREQ=YEARLY;BYMONTH=10;BYDAY=-1SU
TZNAME:CET
END:STANDARD
END:VTIMEZONE
BEGIN:VEVENT
UID:94356
ORGANIZER;CN="FC Schalke 04 Arena Management GmbH" 
LOCATION:Veltins-ARENA, Arenaring, 45891 Gelsenkirchen
SUMMARY:Böhse Onkelz
DESCRIPTION:Böhse Onkelz spielen Ihr Finale der „Mitten Unter Euch“-Tour in der VELTINS-ArenaWährend die Hallen-Tour der Böhsen Onkelz derzeit ihren Auftakt erlebt, richtet sich der Blick bereits jetzt auf ein neues Kapitel der Bandgeschichte. Für den Sommer 2026 stehen die Termine der „Mitten Unter Euch“-Tour fest. Dabei macht die Band auch Halt in Gelsenkirchen.
CLASS:PUBLIC
DTSTART;TZID=Europe/Berlin:20260711T190000
DTSTAMP:20060812T125900Z
END:VEVENT
END:VCALENDAR