BEGIN:VCALENDAR
VERSION:2.0
PRODID:http://www.gelsenkirchen.de
METHOD:PUBLISH
BEGIN:VTIMEZONE
TZID:Europe/Berlin
BEGIN:DAYLIGHT
TZOFFSETFROM:+0100
TZOFFSETTO:+0200
DTSTART:19810329T020000
RRULE:FREQ=YEARLY;BYMONTH=3;BYDAY=-1SU
TZNAME:CEST
END:DAYLIGHT
BEGIN:STANDARD
TZOFFSETFROM:+0200
TZOFFSETTO:+0100
DTSTART:19961027T030000
RRULE:FREQ=YEARLY;BYMONTH=10;BYDAY=-1SU
TZNAME:CET
END:STANDARD
END:VTIMEZONE
BEGIN:VEVENT
UID:94355
ORGANIZER;CN="FC Schalke 04 Arena Management GmbH" 
LOCATION:Veltins-ARENA, Arenaring, 45891 Gelsenkirchen
SUMMARY:Monster Jam
DESCRIPTION:Am 13. Juni 2026 kommt Monster Jam, die größte Monster-Truck-Show der Welt, mit ihrem einzigen Deutschland-Event in 2026 nach Gelsenkirchen. Das spektakuläre Motorsport-Erlebnis mit den weltbesten Fahrerinnen und Fahrern wird das Publikum mit actionreichen Stunts, atemberaubenden Fahrkünsten und einem hohen Adrenalinpegel begeistern. 
CLASS:PUBLIC
DTSTART;TZID=Europe/Berlin:20260613T153000
DTSTAMP:20060812T125900Z
END:VEVENT
END:VCALENDAR