BEGIN:VCALENDAR
VERSION:2.0
PRODID:http://www.gelsenkirchen.de
METHOD:PUBLISH
BEGIN:VTIMEZONE
TZID:Europe/Berlin
BEGIN:DAYLIGHT
TZOFFSETFROM:+0100
TZOFFSETTO:+0200
DTSTART:19810329T020000
RRULE:FREQ=YEARLY;BYMONTH=3;BYDAY=-1SU
TZNAME:CEST
END:DAYLIGHT
BEGIN:STANDARD
TZOFFSETFROM:+0200
TZOFFSETTO:+0100
DTSTART:19961027T030000
RRULE:FREQ=YEARLY;BYMONTH=10;BYDAY=-1SU
TZNAME:CET
END:STANDARD
END:VTIMEZONE
BEGIN:VEVENT
UID:94348
ORGANIZER;CN="Stadtmarketing Gesellschaft Gelsenkirchen mbH" :MAILTO:info@stadtmarketing.de
LOCATION:Hafen Graf Bismarck / Stölting Harbor, Johannes-Rau-Allee, 45889 Gelsenkirchen
SUMMARY:4. Fahrrad-Erlebnistag
DESCRIPTION:Am 10. Mai 2026 findet in Gelsenkirchen der 4. Fahrrad-Erlebnistag statt. Besucherinnen und Besucher erwartet ein abwechslungsreiches Programm rund ums Fahrrad mit Mitmachaktionen, Informationen und Angeboten für die ganze Familie. Ein erlebnisreicher Tag, der Bewegung, Spaß und nachhaltige Mobilität verbindet.
CLASS:PUBLIC
DTSTART;TZID=Europe/Berlin:20260510T110000
DTEND;TZID=Europe/Berlin:20260510T180000
DTSTAMP:20060812T125900Z
END:VEVENT
END:VCALENDAR