BEGIN:VCALENDAR
VERSION:2.0
PRODID:http://www.gelsenkirchen.de
METHOD:PUBLISH
BEGIN:VTIMEZONE
TZID:Europe/Berlin
BEGIN:DAYLIGHT
TZOFFSETFROM:+0100
TZOFFSETTO:+0200
DTSTART:19810329T020000
RRULE:FREQ=YEARLY;BYMONTH=3;BYDAY=-1SU
TZNAME:CEST
END:DAYLIGHT
BEGIN:STANDARD
TZOFFSETFROM:+0200
TZOFFSETTO:+0100
DTSTART:19961027T030000
RRULE:FREQ=YEARLY;BYMONTH=10;BYDAY=-1SU
TZNAME:CET
END:STANDARD
END:VTIMEZONE
BEGIN:VEVENT
UID:94346
ORGANIZER;CN="Pro-Event Entertainment GmbH" 
LOCATION:Veltins-ARENA, Arenaring, 45891 Gelsenkirchen
SUMMARY:Die 80er live auf Schalke 2026
DESCRIPTION:Am 25. Juli 2026 wird die VELTINS-Arena in Gelsenkirchen zur größten 80er-Party Deutschlands: 80er Live auf Schalke bringt die Stars und Hits eines legendären Jahrzehnts auf die Bühne. Mit mitreißenden Live-Acts, ikonischen Songs und echtem Retro-Feeling erwartet die Fans eine unvergessliche Zeitreise voller Emotionen, Tanz und Nostalgie. Ein Muss für alle 80er-Liebhaber!
CLASS:PUBLIC
DTSTART;TZID=Europe/Berlin:20260725T140000
DTEND;TZID=Europe/Berlin:20260725T220000
DTSTAMP:20060812T125900Z
END:VEVENT
END:VCALENDAR