BEGIN:VCALENDAR
VERSION:2.0
PRODID:http://www.gelsenkirchen.de
METHOD:PUBLISH
BEGIN:VTIMEZONE
TZID:Europe/Berlin
BEGIN:DAYLIGHT
TZOFFSETFROM:+0100
TZOFFSETTO:+0200
DTSTART:19810329T020000
RRULE:FREQ=YEARLY;BYMONTH=3;BYDAY=-1SU
TZNAME:CEST
END:DAYLIGHT
BEGIN:STANDARD
TZOFFSETFROM:+0200
TZOFFSETTO:+0100
DTSTART:19961027T030000
RRULE:FREQ=YEARLY;BYMONTH=10;BYDAY=-1SU
TZNAME:CET
END:STANDARD
END:VTIMEZONE
BEGIN:VEVENT
UID:94345
ORGANIZER;CN="Stadtmarketing Gesellschaft Gelsenkirchen mbH" :MAILTO:info@stadtmarketing.de
LOCATION:Heinrich-König-Platz, Heinrich-König-Platz, 45879 Gelsenkirchen
SUMMARY:Weihnachtsmarkt
DESCRIPTION:Der Heinrich-König-Platz lässt auch in diesem Jahr wieder jedes Weihnachtsherz im Weihnachtsdorf schneller schlagen - mit einer Almhütte, Spezialitäten aus verschiedenen Ländern oder Kunsthandwerk!
CLASS:PUBLIC
DTSTART;TZID=Europe/Berlin:20261123
DTEND;TZID=Europe/Berlin:20261225
DTSTAMP:20060812T125900Z
END:VEVENT
END:VCALENDAR