BEGIN:VCALENDAR
VERSION:2.0
PRODID:http://www.gelsenkirchen.de
METHOD:PUBLISH
BEGIN:VTIMEZONE
TZID:Europe/Berlin
BEGIN:DAYLIGHT
TZOFFSETFROM:+0100
TZOFFSETTO:+0200
DTSTART:19810329T020000
RRULE:FREQ=YEARLY;BYMONTH=3;BYDAY=-1SU
TZNAME:CEST
END:DAYLIGHT
BEGIN:STANDARD
TZOFFSETFROM:+0200
TZOFFSETTO:+0100
DTSTART:19961027T030000
RRULE:FREQ=YEARLY;BYMONTH=10;BYDAY=-1SU
TZNAME:CET
END:STANDARD
END:VTIMEZONE
BEGIN:VEVENT
UID:94266
ORGANIZER;CN="Deutsche Stiftung Denkmalschutz" :MAILTO:info@denkmalschutz.de
LOCATION: Stadtgebiet Gelsenkirchen, Stadtgebiet Gelsenkirchen, 45879 Gelsenkirchen
SUMMARY:Tag des offenen Denkmals
DESCRIPTION:Der Tag des offenen Denkmals ist die größte Kulturveranstaltung Deutschlands und findet jedes Jahr am zweiten Sonntag im September statt. In ganz Deutschland werden für Millionen Besucherinnen und Besucher historische Stätten geöffnet, die sonst nicht oder nur teilweise zugänglich sind. So können die Gäste die kulturelle Vielfalt der Denkmäler und „ihre Schätze“ bewundern. Er soll dazu beitragen, die Öffentlichkeit für die Bedeutung des baukulturellen Erbes zu sensibilisieren und das Interesse für die Belange der Denkmalpflege zu stärken. Der Tag des offenen Denkmals ist 1993 erstmals von der Deutschen Stiftung Denkmalschutz initiiert worden und wird in Gelsenkirchen von der Unteren Denkmalbehörde koordiniert.Jedes Denkmal erzählt viel über die sozialen und kulturellen Verhältnisse der Zeit, seiner Entstehung und Nutzung. Die überwiegende Mehrzahl der am Denkmaltag geöffneten Bauten und Stätten stehen für einen gemeinschaftlichen Erfolg Vieler, die für den Denkmalschutz und die Denkmalpflege mit vereinten Kräften tätig sind. Ohne das Zusammenspiel von Vereinen, Initiativen, Denkmaleigentümerschaft und amtlicher Denkmalpflege werden Denkmäler nur selten erhalten.
CLASS:PUBLIC
DTSTART;TZID=Europe/Berlin:20260913
DTEND;TZID=Europe/Berlin:20260915
DTSTAMP:20060812T125900Z
END:VEVENT
END:VCALENDAR