BEGIN:VCALENDAR
VERSION:2.0
PRODID:http://www.gelsenkirchen.de
METHOD:PUBLISH
BEGIN:VTIMEZONE
TZID:Europe/Berlin
BEGIN:DAYLIGHT
TZOFFSETFROM:+0100
TZOFFSETTO:+0200
DTSTART:19810329T020000
RRULE:FREQ=YEARLY;BYMONTH=3;BYDAY=-1SU
TZNAME:CEST
END:DAYLIGHT
BEGIN:STANDARD
TZOFFSETFROM:+0200
TZOFFSETTO:+0100
DTSTART:19961027T030000
RRULE:FREQ=YEARLY;BYMONTH=10;BYDAY=-1SU
TZNAME:CET
END:STANDARD
END:VTIMEZONE
BEGIN:VEVENT
UID:94215
ORGANIZER;CN="Amphitheater Gelsenkirchen" 
LOCATION:Amphitheater Gelsenkirchen, Grothusstraße 201, 45883 Gelsenkirchen
SUMMARY:Rockorchester Ruhrgebeat
DESCRIPTION:Am 5. September 2026 verwandelt das Rockorchester Ruhrgebeat das Amphitheater Gelsenkirchen erneut in eine große Open-Air-Bühne voller Energie, Emotion und echter Ruhrpott-Power. Das beliebte Orchester zählt seit vielen Jahren zu den herausragenden musikalischen Formationen der Region und begeistert mit einer einmaligen Mischung aus Rock, Pop, Klassik und beeindruckenden Chorarrangements.Mit über 30 Musikerinnen und Musikern, kraftvollen Stimmen und einer mitreißenden Live-Show steht das Rockorchester Ruhrgebeat für musikalische Vielfalt und ein unverwechselbares Gemeinschaftsgefühl – typisch Revier, typisch Ruhrgebeat. Für das Konzert 2026 ist das Motto bereits in Planung und wird zu einem späteren Zeitpunkt bekanntgegeben.Freuen Sie sich auf einen Abend voller Gänsehautmomente, starker Sounds und einer Stimmung, die das Amphitheater zum Beben bringt.
CLASS:PUBLIC
DTSTART;TZID=Europe/Berlin:20260905T190000
DTSTAMP:20060812T125900Z
END:VEVENT
END:VCALENDAR