BEGIN:VCALENDAR
VERSION:2.0
PRODID:http://www.gelsenkirchen.de
METHOD:PUBLISH
BEGIN:VTIMEZONE
TZID:Europe/Berlin
BEGIN:DAYLIGHT
TZOFFSETFROM:+0100
TZOFFSETTO:+0200
DTSTART:19810329T020000
RRULE:FREQ=YEARLY;BYMONTH=3;BYDAY=-1SU
TZNAME:CEST
END:DAYLIGHT
BEGIN:STANDARD
TZOFFSETFROM:+0200
TZOFFSETTO:+0100
DTSTART:19961027T030000
RRULE:FREQ=YEARLY;BYMONTH=10;BYDAY=-1SU
TZNAME:CET
END:STANDARD
END:VTIMEZONE
BEGIN:VEVENT
UID:94214
ORGANIZER;CN="Amphitheater Gelsenkirchen" 
LOCATION:Amphitheater Gelsenkirchen, Grothusstraße 201, 45883 Gelsenkirchen
SUMMARY:Völkerball
DESCRIPTION:Im Jahr 2026 heben Völkerball – die authentischste Rammstein Tribute Band Europas – buchstäblich ab. Mit originalgetreu nachgebauten Requisiten schafft es die Band in diesem Jahr mehr als jemals zuvor, die Perfektion einer Rammstein-Show ganz nah zu Euch zu bringen und zur atemberaubenden Realität werden zu lassen.Wie niemand sonst, setzen Völkerball das Konzerterlebnis der Berliner Rockgiganten mit explosiver Kraft und in nie da gewesener Perfektion auf der Bühne um.Völkerball: 99,9 % Rammstein – 100 % Völkerball ist mehr als ein Versprechen: Die Band ist eine Garantie für Gänsehaut, eine höchst beindruckende Pyro-Show und musikalische Präzision auf höchstem Niveau.Auch 2026 setzen Völkerball wieder neue Maßstäbe in Sachen Showdesign und Originaltreue zu ihrem großen Vorbild: Bekannte und beliebte Requisiten wie der Feuerbogen und der Flammenwerfer im Song ‚Mein Teil’ wechseln sich ab mit neuen Elementen wie dem überdimensionalen, Konfetti-sprühendem Phallus im Song ‚Pussy‘. Und gemäß dem Namen ‚Engel‘-Tour erhebt sich René -alias Till- mit mächtigen Flügeln in die Lüfte, hoch bis ins Dach der Bühne – um dann im brutalen Pyrogewitter das große Finale der 2,5 Stunden dauernden Tributeshow einzuleiten.2026 wird es Völkerball erneut gelingen, eine unglaubliche Inszenierung auf die Bühne zu bringen, die an Dynamik, Kraft und Authentizität ihresgleichen sucht. So wird jedes Völkerball Konzert mit perfektem Sound, spektakulärem Licht und gewaltigen pyrotechnischen Effekten zur faszinierenden Ausnahmeerfahrung für jeden Konzertbesucher.Veranstalter:HEADLINE Nöth, Schneider &amp; Verseck GbR, Friedrich-Breuer-Str. 26-28, 53225 Bonn, Deutschland
CLASS:PUBLIC
DTSTART;TZID=Europe/Berlin:20260904T200000
DTSTAMP:20060812T125900Z
END:VEVENT
END:VCALENDAR