BEGIN:VCALENDAR
VERSION:2.0
PRODID:http://www.gelsenkirchen.de
METHOD:PUBLISH
BEGIN:VTIMEZONE
TZID:Europe/Berlin
BEGIN:DAYLIGHT
TZOFFSETFROM:+0100
TZOFFSETTO:+0200
DTSTART:19810329T020000
RRULE:FREQ=YEARLY;BYMONTH=3;BYDAY=-1SU
TZNAME:CEST
END:DAYLIGHT
BEGIN:STANDARD
TZOFFSETFROM:+0200
TZOFFSETTO:+0100
DTSTART:19961027T030000
RRULE:FREQ=YEARLY;BYMONTH=10;BYDAY=-1SU
TZNAME:CET
END:STANDARD
END:VTIMEZONE
BEGIN:VEVENT
UID:94213
ORGANIZER;CN="Amphitheater Gelsenkirchen" 
LOCATION:Amphitheater Gelsenkirchen, Grothusstraße 201, 45883 Gelsenkirchen
SUMMARY:Howard Carpendale – EIN SOMMER MIT EUCH – 2026
DESCRIPTION:Nach mehr als sechs Jahrzehnten im Rampenlicht, unzähligen Hits und unvergesslichen Live-Momenten geht Howard Carpendale im Frühjahr 2026 auf seine große Abschiedstournee durch Deutschland, Österreich und die Schweiz. Die große Begeisterung und Nachfrage der Fans auf die Konzerte in den größten Arenen haben den Künstler überwältigt und dazu inspiriert seine Zugabe offiziell zu verkünden und die Tour um zusätzliche Open-Air-Konzerte im Sommer 2026 zu erweitern.“  Es bewegt mich immer wieder aufs Neue zu sehen, wie viele Menschen meine Show erreicht und berührt. Diese Resonanz ist in der heutigen Zeit keineswegs selbstverständlich, umso mehr freue ich mich auf die „Zugabe“, die ich mit meiner Band und den Fans im Sommer feiern werde“, so Carpendale.Die zusätzlichen Termine werden in einigen der schönsten Open-Air-Locations Deutschlands stattfinden. Die Zuschauer dürfen sich auf eine Mischung aus legendären Klassikern, emotionalen Balladen und energiegeladenen Hits freuen – alles in einer einzigartigen Atmosphäre unter freiem Himmel.Howard Carpendale verspricht: „Das wird ein einmaliges Erlebnis – voller Emotion, Musik und Dankbarkeit.“Veranstalter:Semmel Concerts Entertainment GmbH, Am Mühlgraben 70, 95445 Bayreuth, Deutschland
CLASS:PUBLIC
DTSTART;TZID=Europe/Berlin:20260827T200000
DTSTAMP:20060812T125900Z
END:VEVENT
END:VCALENDAR