BEGIN:VCALENDAR
VERSION:2.0
PRODID:http://www.gelsenkirchen.de
METHOD:PUBLISH
BEGIN:VTIMEZONE
TZID:Europe/Berlin
BEGIN:DAYLIGHT
TZOFFSETFROM:+0100
TZOFFSETTO:+0200
DTSTART:19810329T020000
RRULE:FREQ=YEARLY;BYMONTH=3;BYDAY=-1SU
TZNAME:CEST
END:DAYLIGHT
BEGIN:STANDARD
TZOFFSETFROM:+0200
TZOFFSETTO:+0100
DTSTART:19961027T030000
RRULE:FREQ=YEARLY;BYMONTH=10;BYDAY=-1SU
TZNAME:CET
END:STANDARD
END:VTIMEZONE
BEGIN:VEVENT
UID:94212
ORGANIZER;CN="Amphitheater Gelsenkirchen" 
LOCATION:Amphitheater Gelsenkirchen, Grothusstraße 201, 45883 Gelsenkirchen
SUMMARY:Katie Melua
DESCRIPTION:Katie Melua gehört zu den erfolgreichsten britischen Künstlerinnen unserer Zeit. Mit über elf Millionen verkauften Alben, mehr als 56 Platin-Auszeichnungen und acht Top-10-Studioalben hat sie längst Musikgeschichte geschrieben.Geboren in Tiflis (Georgien), zog sie als Kind nach Großbritannien und absolvierte die renommierte BRIT School of Performing Arts. Bereits mit ihrem Debüt „The Closest Thing to Crazy“ verzauberte sie 2003 ein Millionenpublikum. Seitdem begeistert sie weltweit mit ihrer außergewöhnlichen Stimme, ihrer emotionalen Tiefe und ihrem feinen Gespür für Melodien.Nach gefeierten Alben wie Call Off The Search, Piece By Piece oder In Winter erschien zuletzt ihr aktuelles Werk Love and Money bei BMG. Auf der Bühne überzeugt Katie Melua nicht nur mit ihrer einzigartigen Stimme, sondern auch mit ihrer persönlichen Ausstrahlung und intimen Nähe zu ihrem Publikum.2026 ist es endlich soweit: Zum ersten Mal seit über 20 Jahren tritt Katie Melua wieder in Deutschland auf – und am 26. August im stimmungsvollen Amphitheater Gelsenkirchen.Freuen Sie sich auf einen Abend voller musikalischer Magie, gefühlvoller Balladen und einer Stimme, die unter die Haut geht.Veranstalter:HockeyPark Betriebs GmbH &amp; Co. KG, Am Hockeypark 1, 41179 Mönchengladbach, Deutschland
CLASS:PUBLIC
DTSTART;TZID=Europe/Berlin:20260826T200000
DTSTAMP:20060812T125900Z
END:VEVENT
END:VCALENDAR