BEGIN:VCALENDAR
VERSION:2.0
PRODID:http://www.gelsenkirchen.de
METHOD:PUBLISH
BEGIN:VTIMEZONE
TZID:Europe/Berlin
BEGIN:DAYLIGHT
TZOFFSETFROM:+0100
TZOFFSETTO:+0200
DTSTART:19810329T020000
RRULE:FREQ=YEARLY;BYMONTH=3;BYDAY=-1SU
TZNAME:CEST
END:DAYLIGHT
BEGIN:STANDARD
TZOFFSETFROM:+0200
TZOFFSETTO:+0100
DTSTART:19961027T030000
RRULE:FREQ=YEARLY;BYMONTH=10;BYDAY=-1SU
TZNAME:CET
END:STANDARD
END:VTIMEZONE
BEGIN:VEVENT
UID:94211
ORGANIZER;CN="Amphitheater Gelsenkirchen" 
LOCATION:Amphitheater Gelsenkirchen, Grothusstraße 201, 45883 Gelsenkirchen
SUMMARY:Nino de Angelo – Un Momento Italiano
DESCRIPTION:Nino de Angelo kündigt für den Sommer 2026 eine ausgedehnte Open Air Tour auf den schönsten Freilichtbühnen Deutschlands an. Mit sommerlichen Nächten unter freiem Himmel erwarten die Besucher emotionale Momente in einer einzigartigen Live-Atmosphäre. Im Zentrum der Open Airs steht dabei das Album „Un Momento Italiano“ von 2004. Seine Fans dürfen sich auf neue Live-Interpretationen aus diesem Album freuen. Den Titeltrack „Tornerò“ kennen viele bereits als Klassiker aus Nino bisherigen Konzerten und als Duett mit Giovanni aus der Giovanni Zarrella Show. Ein italienischer Moment nach dem anderen, der das Herz höherschlagen lässt. Natürlich wird Nino de Angelo auch seine legendären Songs performen – von „Jenseits bis Eden“ bis zu aktuellen Stücken. Ein Set, das Vergangenheit und Gegenwart musikalisch verbindet. Für Nino de Angelo beginnt eine weitere Etappe auf seinem Weg. Gemeinsam mit seinem Tourneeveranstalter Concertbüro Zahlmann, arbeitet er back to the roots an der Fortsetzung seines erfolgreichen Schaffens. Ein außergewöhnlicher Künstler mit einer bewegten Vergangenheit, möchte seinen Fans ein Stück Lebensgeschichte zurückgeben. Ist es seine italienische Herkunft, die ihn zu einem solch charmanten, liebenswerten, energiegeladenen Künstler macht? Zweifelsfrei JA! Der Charme, die lebendige Kultur und einzigartige Lebensart Italiens stecken in seinem Blut. Was liegt da näher als eine Open Air Tour der italienischen Nächte in ausgewählten romantischen Schlössern und Parkbühnen. Er kennt sie alle: Die Höhen und die Tiefen, Erfolge und Misserfolge, die Schattenseiten und die Sonnenseiten im Rampenlicht. Extreme, die im Fall von Nino de Angelo auch locker für zwei Leben ausreichen würden. 2025 brach für den Ausnahmesänger ein neues Schaffenskapitel an, in dem er sich seiner Vergangenheit stellte, während er gleichzeitig mit optimistischem Blick nach vorne schaute. Mit seinem aktuellen Album „Irgendwann im Leben“ legte der Ausnahmesänger das wohl tiefgründigste, bewegendste und zugleich wichtigste Werk in seiner wechselvollen Vita vor! Es folgte eine außergewöhnliche Tournee mit ausverkauften Hallen. Zu Beginn des letzten Drittels seines aufregenden Lebens erfindet sich der charismatische Sänger und Musiker nun noch einmal ganz neu. Am 24. Oktober erschien zudem die Deluxe Edition „Irgendwann im Leben = Jetzt &amp; Live“. Veranstalter:Concertbüro Zahlmann GmbH, Wagner-Régeny-Straße 25, 12489 Berlin, Deutschland
CLASS:PUBLIC
DTSTART;TZID=Europe/Berlin:20260821T193000
DTSTAMP:20060812T125900Z
END:VEVENT
END:VCALENDAR