BEGIN:VCALENDAR
VERSION:2.0
PRODID:http://www.gelsenkirchen.de
METHOD:PUBLISH
BEGIN:VTIMEZONE
TZID:Europe/Berlin
BEGIN:DAYLIGHT
TZOFFSETFROM:+0100
TZOFFSETTO:+0200
DTSTART:19810329T020000
RRULE:FREQ=YEARLY;BYMONTH=3;BYDAY=-1SU
TZNAME:CEST
END:DAYLIGHT
BEGIN:STANDARD
TZOFFSETFROM:+0200
TZOFFSETTO:+0100
DTSTART:19961027T030000
RRULE:FREQ=YEARLY;BYMONTH=10;BYDAY=-1SU
TZNAME:CET
END:STANDARD
END:VTIMEZONE
BEGIN:VEVENT
UID:94209
ORGANIZER;CN="Amphitheater Gelsenkirchen" 
LOCATION:Amphitheater Gelsenkirchen, Grothusstraße 201, 45883 Gelsenkirchen
SUMMARY:Fury in the Slaughterhouse
DESCRIPTION:Während Fury In The Slaughterhouse mit ihrer Open Air-Tournee FURY LIVE TWENTY FIVE durch den Sommer 2025 gerockt sind, wurde hinter den Kulissen munter weitergeplant für: FURY LIVE TWENTY SIX! Da es im letzten Sommer so unfassbar schön war und viele der Konzerte bereits Wochen vorher restlos ausverkauft waren, haben die Bandmitglieder einer der erfolgreichsten Rock-Bands aus Deutschland entschieden, einfach direkt neue Live-Termine für dieOpen Air-Saison 2026 anzusetzen. Damit lassen sie jedes Fanherz Freudensprüngen machen. Kai Wingenfelder sagt dazu: „Wir sind zu alt, um jetzt aufzuhören. Wie sollten wir ohne die Feiern, das Singen und das Tanzen mit den Fans klarkommen?“.Fury In The Slaughterhouse begeistern seit den frühen 1990er Jahren Fans im In- und Ausland mit ihrer kraftvollen Musik und mitreißenden Live-Auftritten. Gegründet in Hannover, hat sich die Band schnell einen festen Platz in der deutschen Rockszene erobert und ist bekannt für eingängige Melodien, tiefgründige Texte und energiegeladene Shows. Nach fast 40 Jahren Bandgeschichte krönte die Ausnahmeband 2023 ihren durchgehenden Erfolg mit dem ersten #1 Album ihrer Karriere: HOPE!Veranstalter:Concert Team NRW GmbH, Niederrheinstraße 116, 40474 Düsseldorf, DeutschlandMit ihren All-Time-Favorits wie „Every Generation Got It‘s Own Desease“, „Radio Orchid“, „Time To Wonder“ und neuen Hits wie „Sorrowland“ und „Everyday Heroes“ hat Fury In The Slaughterhouse zahlreiche Chartplatzierungen erreicht und den Soundtrack einer ganzen Generation geschrieben. Die Band zeichnet sich durch ihre Vielseitigkeit aus, die von hartem Rock bis zu gefühlvollen Balladen, von Krawall bis Kitsch, von Wacken bis zu den Bravo Hits reicht.Fury In The Slaughterhouse bleiben eine bedeutende Kraft in der deutschen Musiklandschaft. Mit ihrer Leidenschaft für Musik und ihrer Hingabe an die Fans setzen sie weiterhin Maßstäbe und begeistern ungebrochen.
CLASS:PUBLIC
DTSTART;TZID=Europe/Berlin:20260801T190000
DTSTAMP:20060812T125900Z
END:VEVENT
END:VCALENDAR