BEGIN:VCALENDAR
VERSION:2.0
PRODID:http://www.gelsenkirchen.de
METHOD:PUBLISH
BEGIN:VTIMEZONE
TZID:Europe/Berlin
BEGIN:DAYLIGHT
TZOFFSETFROM:+0100
TZOFFSETTO:+0200
DTSTART:19810329T020000
RRULE:FREQ=YEARLY;BYMONTH=3;BYDAY=-1SU
TZNAME:CEST
END:DAYLIGHT
BEGIN:STANDARD
TZOFFSETFROM:+0200
TZOFFSETTO:+0100
DTSTART:19961027T030000
RRULE:FREQ=YEARLY;BYMONTH=10;BYDAY=-1SU
TZNAME:CET
END:STANDARD
END:VTIMEZONE
BEGIN:VEVENT
UID:94207
ORGANIZER;CN="City Initiative Gelsenkirchen e.V." :MAILTO:initiative@gelsenkirchen-city.de
LOCATION:GE-City zwischen Heinrich-König-Platz und Bahnhofsvorplatz, Bahnhofstraße, 45879 Gelsenkirchen
SUMMARY:Blumen- und Gartenmarkt
DESCRIPTION:In diesem Jahr findet wieder der beliebte Blumen- und Gartenmarkt statt. Am Samstag und Sonntag (28. und 29. März) organisiert die Werbegemeinschaft Gelsenkirchen City durch die City Initiative e. V. Gelsenkirchen den beliebten Frühjahrsmarkt. Unterstützung erfahren die Organisatoren durch das Bahnhofcenter Gelsenkirchen, die Sparkasse Gelsenkirchen sowie der Stadt Gelsenkirchen.Wieder einmal wird der Blumen- und Gartenmarkt in der Gelsenkirchener City- zwischen Bahnhofsvorplatz, Bahnhofstraße und Neumarkt ausgetragen.
CLASS:PUBLIC
DTSTART;TZID=Europe/Berlin:20260328T100000
DTSTAMP:20060812T125900Z
END:VEVENT
END:VCALENDAR