BEGIN:VCALENDAR
VERSION:2.0
PRODID:http://www.gelsenkirchen.de
METHOD:PUBLISH
BEGIN:VTIMEZONE
TZID:Europe/Berlin
BEGIN:DAYLIGHT
TZOFFSETFROM:+0100
TZOFFSETTO:+0200
DTSTART:19810329T020000
RRULE:FREQ=YEARLY;BYMONTH=3;BYDAY=-1SU
TZNAME:CEST
END:DAYLIGHT
BEGIN:STANDARD
TZOFFSETFROM:+0200
TZOFFSETTO:+0100
DTSTART:19961027T030000
RRULE:FREQ=YEARLY;BYMONTH=10;BYDAY=-1SU
TZNAME:CET
END:STANDARD
END:VTIMEZONE
BEGIN:VEVENT
UID:94206
ORGANIZER;CN="Ruhr Tourismus GmbH" :MAILTO:info@ruhr-tourismus.de
LOCATION:Stadtgebiet Gelsenkirchen und Ruhrgebiet, Kurt-Schumacher-Straße, 45881 Gelsenkirchen
SUMMARY:Tag der Trinkhallen
DESCRIPTION:Als „Dorfplatz der Großstadt“ ist kaum ein anderer Ort so eng mit der Geschichte und den Menschen des Ruhrgebiets verbunden wie die Trinkhalle. 2021 wurden die Trinkhallen des Ruhrgebiets zum immateriellen Kulturerbe erklärt. Ein Grund mehr unsere Büdchen zu feiern!Deshalb findet am 29. August 2026 bereits zum fünften Mal der Tag der Trinkhallen statt.
CLASS:PUBLIC
DTSTART;TZID=Europe/Berlin:20260829
DTEND;TZID=Europe/Berlin:20260831
DTSTAMP:20060812T125900Z
END:VEVENT
END:VCALENDAR