BEGIN:VCALENDAR
VERSION:2.0
PRODID:http://www.gelsenkirchen.de
METHOD:PUBLISH
BEGIN:VTIMEZONE
TZID:Europe/Berlin
BEGIN:DAYLIGHT
TZOFFSETFROM:+0100
TZOFFSETTO:+0200
DTSTART:19810329T020000
RRULE:FREQ=YEARLY;BYMONTH=3;BYDAY=-1SU
TZNAME:CEST
END:DAYLIGHT
BEGIN:STANDARD
TZOFFSETFROM:+0200
TZOFFSETTO:+0100
DTSTART:19961027T030000
RRULE:FREQ=YEARLY;BYMONTH=10;BYDAY=-1SU
TZNAME:CET
END:STANDARD
END:VTIMEZONE
BEGIN:VEVENT
UID:94203
ORGANIZER;CN="Amphitheater Gelsenkirchen" 
LOCATION:Amphitheater Gelsenkirchen, Grothusstraße 201, 45883 Gelsenkirchen
SUMMARY:Alice Cooper „Alice’s Attic“ Live 2026
DESCRIPTION:Nach einem ereignisreichen Jahr kehrt Alice Cooper 2026 mit seiner brandneuen Bühnenshow „Alice’s Attic“ für zwei Termine nach Deutschland zurück.Cooper, der in die Rock and Roll Hall of Fame aufgenommen wurde, ist in der Regel bis zu sechs Monate im Jahr unterwegs, um seine spektakuläre Bühnenshow alten und neuen Fans zu präsentieren, wobei er die Bühnenauftritte ebenso genießt wie das Publikum. Als Erfinder des Schock-Rocks überrascht und schockiert Cooper seine Fans mit theatralischem Wahnsinn immer wieder aufs Neue – wie in einem guten Horrorfilm.Das aktuelle Album „The Revenge of Alice Cooper“, das am 25. Juli 2023 über earMUSIC erschien, wurde von der wiedervereinten Originalbesetzung der Alice Cooper Group geschrieben, komponiert und aufgenommen. Das Album ist ein Tauchgang in die düstere, rebellische Welt der Band. Produziert von bpb Ezrin, dem langjährigen Wegbegleiter und inoffiziellen sechten Bandmitglied, fängt „The Revenge of Alice Cooper“ den klassischen Sound der 70er mit frischer Energie ein – gemacht für die Bühne, für die Schatten und für die Lautstärke auf Anschlag.Veranstalter:190a GmbH, Vogelsanger Straße 352, 50827 Köln, Deutschland
CLASS:PUBLIC
DTSTART;TZID=Europe/Berlin:20260709T200000
DTSTAMP:20060812T125900Z
END:VEVENT
END:VCALENDAR