BEGIN:VCALENDAR
VERSION:2.0
PRODID:http://www.gelsenkirchen.de
METHOD:PUBLISH
BEGIN:VTIMEZONE
TZID:Europe/Berlin
BEGIN:DAYLIGHT
TZOFFSETFROM:+0100
TZOFFSETTO:+0200
DTSTART:19810329T020000
RRULE:FREQ=YEARLY;BYMONTH=3;BYDAY=-1SU
TZNAME:CEST
END:DAYLIGHT
BEGIN:STANDARD
TZOFFSETFROM:+0200
TZOFFSETTO:+0100
DTSTART:19961027T030000
RRULE:FREQ=YEARLY;BYMONTH=10;BYDAY=-1SU
TZNAME:CET
END:STANDARD
END:VTIMEZONE
BEGIN:VEVENT
UID:94201
ORGANIZER;CN="Festkomitee Gelsenkirchener Karneval e. V." 
LOCATION:Gelsenkirchen-Erle, Cranger Straße, 45891 Gelsenkirchen
SUMMARY:Rosenmontagsumzug
DESCRIPTION:Das Motto 2026 lautet: "Von der Emscher bis zum Rhein - Karneval lädt alle ein".
CLASS:PUBLIC
DTSTART;TZID=Europe/Berlin:20260216T143000
DTSTAMP:20060812T125900Z
END:VEVENT
END:VCALENDAR