BEGIN:VCALENDAR
VERSION:2.0
PRODID:http://www.gelsenkirchen.de
METHOD:PUBLISH
BEGIN:VTIMEZONE
TZID:Europe/Berlin
BEGIN:DAYLIGHT
TZOFFSETFROM:+0100
TZOFFSETTO:+0200
DTSTART:19810329T020000
RRULE:FREQ=YEARLY;BYMONTH=3;BYDAY=-1SU
TZNAME:CEST
END:DAYLIGHT
BEGIN:STANDARD
TZOFFSETFROM:+0200
TZOFFSETTO:+0100
DTSTART:19961027T030000
RRULE:FREQ=YEARLY;BYMONTH=10;BYDAY=-1SU
TZNAME:CET
END:STANDARD
END:VTIMEZONE
BEGIN:VEVENT
UID:94200
ORGANIZER;CN="Amphitheater Gelsenkirchen" 
LOCATION:Amphitheater Gelsenkirchen, Grothusstraße 201, 45883 Gelsenkirchen
SUMMARY:ExtraSchicht – die lange Nacht der Industriekultur
DESCRIPTION:Ein besonderer Schauplatz der Industriekultur: Am 27. Juni 2026 wird der Nordsternpark Gelsenkirchen erneut zu einem zentralen Erlebnisort der ExtraSchicht – der Nacht der Industriekultur. Das ehemalige Zechengelände, das heute vielseitig genutzt wird und auf dem unter anderem Wohnen und Arbeiten entstanden sind – unter anderem durch die Entwicklungen von VIVAWEST – bildet zusammen mit dem weitläufigen Park ein einzigartiges Zusammenspiel aus Geschichte, Architektur und moderner Nutzung.Der Park selbst bleibt dabei ein offener Grün- und Kulturraum, der Industriegeschichte und Freizeit miteinander verbindet.Der Nordsternturm – ikonisches Wahrzeichen des ParksDer markante Nordsternturm, früher Teil der Zechenanlage und heute eines der bekanntesten Wahrzeichen des Ruhrgebiets, prägt das Gelände weithin sichtbar. Seine besondere Architektur und die Verbindung von Industrievergangenheit und Gegenwart machen ihn zu einem zentralen Symbol des Nordsternareals.Während der ExtraSchicht wird der Bereich rund um den Turm atmosphärisch inszeniert und bietet Besucherinnen und Besuchern eindrucksvolle Perspektiven auf das Gelände.Kultur unter freiem Himmel: Das Amphitheater GelsenkirchenMit seiner Lage direkt am Wasser bietet das Amphitheater eines der stimmungsvollsten Open-Air-Ensembles des Ruhrgebiets. Umgeben von Industriekulisse, Natur und urbanem Flair wird es während der ExtraSchicht zu einem lebendigen Treffpunkt, an dem die besondere Atmosphäre des Parks auf vielfältige Weise erlebbar wird.Hier können Besucherinnen und Besucher verweilen, flanieren und die unverwechselbare Stimmung genießen.Geschichte &amp; Gegenwart im DialogDer Nordsternpark vereint ehemalige Arbeitswelten der Zechenzeit mit neuen Freizeit- und Kulturangeboten. Kunstinstallationen, Landmarken wie der Nordsternturm und die Mischung aus historischen und modernen Elementen lassen das Ruhrgebiet in seinem Wandel lebendig werden.Während der ExtraSchicht öffnet das Areal seine besonderen Orte und lädt dazu ein, die vielfältigen Facetten der Industriekultur neu zu entdecken.Service, Orientierung &amp; AufenthaltInformationspunkte im Park und am Amphitheater bieten Unterstützung bei Orientierung, Programmhinweisen und Tickets. Für das leibliche Wohl sorgen verschiedene gastronomische Angebote – von regionalen Klassikern bis hin zu modernem Streetfood.
CLASS:PUBLIC
DTSTART;TZID=Europe/Berlin:20260627T000000
DTSTAMP:20060812T125900Z
END:VEVENT
END:VCALENDAR