BEGIN:VCALENDAR
VERSION:2.0
PRODID:http://www.gelsenkirchen.de
METHOD:PUBLISH
BEGIN:VTIMEZONE
TZID:Europe/Berlin
BEGIN:DAYLIGHT
TZOFFSETFROM:+0100
TZOFFSETTO:+0200
DTSTART:19810329T020000
RRULE:FREQ=YEARLY;BYMONTH=3;BYDAY=-1SU
TZNAME:CEST
END:DAYLIGHT
BEGIN:STANDARD
TZOFFSETFROM:+0200
TZOFFSETTO:+0100
DTSTART:19961027T030000
RRULE:FREQ=YEARLY;BYMONTH=10;BYDAY=-1SU
TZNAME:CET
END:STANDARD
END:VTIMEZONE
BEGIN:VEVENT
UID:94199
ORGANIZER;CN="Amphitheater Gelsenkirchen" 
LOCATION:Amphitheater Gelsenkirchen, Grothusstraße 201, 45883 Gelsenkirchen
SUMMARY:Tobi Krell – Open Air Tour 2026: Rätsel, Wissen, Abenteuer
DESCRIPTION:Packt eure Neugier ein und macht euch bereit für eine bunte und aufregende Show: Tobi bringt coole Experimente auf die Bühne, hat überraschende Fakten aus Naturwissenschaft und Technik im Gepäck und jede Menge Mitmach-Aktionen für euch.Ob bei kniffligen Quizfragen, aufregenden Spielen oder kleinen Abenteuern – alle können mitmachen! Tobis Sommershow bringt Spaß und Wissen (und Abkühlung!) für die ganze Familie!Veranstalter:190a GmbH, Vogelsanger Straße 352, 50827 Köln, Deutschl
CLASS:PUBLIC
DTSTART;TZID=Europe/Berlin:20260613T160000
DTSTAMP:20060812T125900Z
END:VEVENT
END:VCALENDAR