BEGIN:VCALENDAR
VERSION:2.0
PRODID:http://www.gelsenkirchen.de
METHOD:PUBLISH
BEGIN:VTIMEZONE
TZID:Europe/Berlin
BEGIN:DAYLIGHT
TZOFFSETFROM:+0100
TZOFFSETTO:+0200
DTSTART:19810329T020000
RRULE:FREQ=YEARLY;BYMONTH=3;BYDAY=-1SU
TZNAME:CEST
END:DAYLIGHT
BEGIN:STANDARD
TZOFFSETFROM:+0200
TZOFFSETTO:+0100
DTSTART:19961027T030000
RRULE:FREQ=YEARLY;BYMONTH=10;BYDAY=-1SU
TZNAME:CET
END:STANDARD
END:VTIMEZONE
BEGIN:VEVENT
UID:94195
ORGANIZER;CN="Amphitheater Gelsenkirchen" 
LOCATION:Amphitheater Gelsenkirchen, Grothusstraße 201, 45883 Gelsenkirchen
SUMMARY:Deine Freunde - Kindsköpfe im Park 2026
DESCRIPTION:Wer Kinder im Alter von 4-12 Jahren hat, kommt an ihnen nicht vorbei: Deine Freunde. Florian Sump, Lukas Nimscheck und Markus Pauli begeistern seit 2011 mit einer einzigartigen Mischung aus Family Entertainment, Hip-Hop und Popmusik nicht nur die Kleinen, sondern eben auch deren Eltern. Die drei Hamburger haben haben das längst totgeglaubte Genre der Kindermusik kräftig aufgemischt und füllen in Deutschland die ganz großen Hallen. Altersbegrenzung: ab 3 Jahre.Veranstalter: prime entertainment GmbH, Herwarthstr. 8, 50672 Köln, Deutschland
CLASS:PUBLIC
DTSTART;TZID=Europe/Berlin:20260606T173000
DTSTAMP:20060812T125900Z
END:VEVENT
END:VCALENDAR