BEGIN:VCALENDAR
VERSION:2.0
PRODID:http://www.gelsenkirchen.de
METHOD:PUBLISH
BEGIN:VTIMEZONE
TZID:Europe/Berlin
BEGIN:DAYLIGHT
TZOFFSETFROM:+0100
TZOFFSETTO:+0200
DTSTART:19810329T020000
RRULE:FREQ=YEARLY;BYMONTH=3;BYDAY=-1SU
TZNAME:CEST
END:DAYLIGHT
BEGIN:STANDARD
TZOFFSETFROM:+0200
TZOFFSETTO:+0100
DTSTART:19961027T030000
RRULE:FREQ=YEARLY;BYMONTH=10;BYDAY=-1SU
TZNAME:CET
END:STANDARD
END:VTIMEZONE
BEGIN:VEVENT
UID:94194
ORGANIZER;CN="M&M Sommerfestival UG" 
LOCATION:Berger Anlagen, Adenauerallee, 45894 Gelsenkirchen
SUMMARY:Sommerfestival Schloss Berge
DESCRIPTION:Im schönsten Park des nördlichen Ruhrgebiets wird seit über 50 Jahren das Sommerfest Schloss Berge gefeiert, mittlerweile ein Symbol für Tradition und Festkultur im Ruhrgebiet. Freuen Sie sich auf Top Unterhaltung, ein Riesenfeuerwerk über dem Berger See, Kinderspaß und Familienprogramm, Kunsthandwerkermarkt und Kirmesbereich und Kulinarisches aus aller Welt.
CLASS:PUBLIC
DTSTART;TZID=Europe/Berlin:20260717
DTEND;TZID=Europe/Berlin:20260721
DTSTAMP:20060812T125900Z
END:VEVENT
END:VCALENDAR