BEGIN:VCALENDAR
VERSION:2.0
PRODID:http://www.gelsenkirchen.de
METHOD:PUBLISH
BEGIN:VTIMEZONE
TZID:Europe/Berlin
BEGIN:DAYLIGHT
TZOFFSETFROM:+0100
TZOFFSETTO:+0200
DTSTART:19810329T020000
RRULE:FREQ=YEARLY;BYMONTH=3;BYDAY=-1SU
TZNAME:CEST
END:DAYLIGHT
BEGIN:STANDARD
TZOFFSETFROM:+0200
TZOFFSETTO:+0100
DTSTART:19961027T030000
RRULE:FREQ=YEARLY;BYMONTH=10;BYDAY=-1SU
TZNAME:CET
END:STANDARD
END:VTIMEZONE
BEGIN:VEVENT
UID:94192
ORGANIZER;CN="Amphitheater Gelsenkirchen" 
LOCATION:Amphitheater Gelsenkirchen, Grothusstraße 201, 45883 Gelsenkirchen
SUMMARY:Saltatio Mortis – Burgentour 2026: Staub & Schatten“
DESCRIPTION:Saltatio Mortis verbinden Musik und Mythos in ihrer neuen „Burgentour 2026: Staub &amp; Schatten“ Eine außergewöhnliche Zusammenarbeit mit Fantasy-Autor Torsten Weitze – Musik trifft Literatur in fünf Romanen und fünf EPs, begleitet von einer Tour über die Burgen und Schlösser Deutschlands.Mit „Staub &amp; Schatten“ schlagen Saltatio Mortis ein weiteres Kapitel ihrer Bandgeschichte auf und kehren 2026 mit einer neuen Livetour auf die Bühnen zurück – speziell an jene Orte, an denen ihre Musik ihre volle Kraft entfaltet: auf den Burgen, Schlössern und Freilichtbühnen Deutschlands.Die Tour markiert den Auftakt einer außergewöhnlichen Zusammenarbeit mit einem der erfolgreichsten Fantasy-Autoren Deutschlands, Torsten Weitze, dessen neue Romanreihe „Der Prinz von Staub und Schatten“ von der Band musikalisch begleitet wird. Gemeinsam entsteht ein künstlerisches Gesamtkonzept, in dem Musik und Literatur zu einer Erzählung verschmelzen, die sowohl auf der Bühne als auch im Buch ihre Gestalt annimmt.Die Burgentour 2026 knüpft an die Wandlungsfähigkeit der Band an; sie ist zugleich Rückkehr zu den Wurzeln und Schritt in ein neues Kapitel. Mit ihren bisherigen Alben wie „Für immer frei” (2020) oder „Finsterwacht” (2024) hat Saltatio Mortis immer wieder neue musikalische Formen erprobt – vom mittelalterlich geprägten Sound mit akustischen Elementen bis zu modernen Rockproduktionen und Crossover-Projekten.Veranstalter:Concert Team NRW GmbH, Niederrheinstraße 116, 40474 Düsseldorf, Deutschland
CLASS:PUBLIC
DTSTART;TZID=Europe/Berlin:20260516T200000
DTSTAMP:20060812T125900Z
END:VEVENT
END:VCALENDAR