BEGIN:VCALENDAR
VERSION:2.0
PRODID:http://www.gelsenkirchen.de
METHOD:PUBLISH
BEGIN:VTIMEZONE
TZID:Europe/Berlin
BEGIN:DAYLIGHT
TZOFFSETFROM:+0100
TZOFFSETTO:+0200
DTSTART:19810329T020000
RRULE:FREQ=YEARLY;BYMONTH=3;BYDAY=-1SU
TZNAME:CEST
END:DAYLIGHT
BEGIN:STANDARD
TZOFFSETFROM:+0200
TZOFFSETTO:+0100
DTSTART:19961027T030000
RRULE:FREQ=YEARLY;BYMONTH=10;BYDAY=-1SU
TZNAME:CET
END:STANDARD
END:VTIMEZONE
BEGIN:VEVENT
UID:94189
ORGANIZER;CN="Live Nation GmbH" 
LOCATION:Veltins-ARENA, Arenaring, 45891 Gelsenkirchen
SUMMARY:Helene Fischer 360° Stadion Tour
DESCRIPTION:Helene Fischer – 360° Stadion Tour 2026 in GelsenkirchenAm 23. Juni 2026 kommt Helene Fischer mit ihrer spektakulären 360° Stadion-Tour nach Gelsenkirchen. Die Künstlerin begeistert mit einer rundum bespielten Bühne, modernster Technik und einer mitreißenden Show voller großer Hits und emotionaler Momente. Ein Sommer-Highlight, das Fans nicht verpassen sollten.
CLASS:PUBLIC
DTSTART;TZID=Europe/Berlin:20260623T193000
DTEND;TZID=Europe/Berlin:20260623T230000
DTSTAMP:20060812T125900Z
END:VEVENT
END:VCALENDAR