BEGIN:VCALENDAR
VERSION:2.0
PRODID:http://www.gelsenkirchen.de
METHOD:PUBLISH
BEGIN:VTIMEZONE
TZID:Europe/Berlin
BEGIN:DAYLIGHT
TZOFFSETFROM:+0100
TZOFFSETTO:+0200
DTSTART:19810329T020000
RRULE:FREQ=YEARLY;BYMONTH=3;BYDAY=-1SU
TZNAME:CEST
END:DAYLIGHT
BEGIN:STANDARD
TZOFFSETFROM:+0200
TZOFFSETTO:+0100
DTSTART:19961027T030000
RRULE:FREQ=YEARLY;BYMONTH=10;BYDAY=-1SU
TZNAME:CET
END:STANDARD
END:VTIMEZONE
BEGIN:VEVENT
UID:94181
ORGANIZER;CN="ZOOM Erlebniswelt" :MAILTO:info@zoom-erlebniswelt.de
LOCATION:ZOOM Erlebniswelt, Bleckstraße 64, 45889 Gelsenkirchen
SUMMARY:Halloween
DESCRIPTION:Erleben Sie die ZOOM Erlebniswelt von ihrer schaurig-schönen Seite. Unheimliche Gruselkulissen, schaurige Gestalten, Nebelschwaden und seltsame Geräusche sorgen für Nervenkitzel. An Halloween sind Bereiche der Erlebniswelten in bunten Farben zauberhaft beleuchtet und erzeugen vor gruseliger Kulisse ein einzigartiges Ambiente. Da kommen kleine und große Gruselmonster voll auf ihre Kosten.
CLASS:PUBLIC
DTSTART;TZID=Europe/Berlin:20261030T180000
DTSTAMP:20060812T125900Z
END:VEVENT
END:VCALENDAR