BEGIN:VCALENDAR
VERSION:2.0
PRODID:http://www.gelsenkirchen.de
METHOD:PUBLISH
BEGIN:VTIMEZONE
TZID:Europe/Berlin
BEGIN:DAYLIGHT
TZOFFSETFROM:+0100
TZOFFSETTO:+0200
DTSTART:19810329T020000
RRULE:FREQ=YEARLY;BYMONTH=3;BYDAY=-1SU
TZNAME:CEST
END:DAYLIGHT
BEGIN:STANDARD
TZOFFSETFROM:+0200
TZOFFSETTO:+0100
DTSTART:19961027T030000
RRULE:FREQ=YEARLY;BYMONTH=10;BYDAY=-1SU
TZNAME:CET
END:STANDARD
END:VTIMEZONE
BEGIN:VEVENT
UID:94180
ORGANIZER;CN="ZOOM Erlebniswelt" :MAILTO:info@zoom-erlebniswelt.de
LOCATION:ZOOM Erlebniswelt, Bleckstraße 64, 45889 Gelsenkirchen
SUMMARY:Welttag des Nashorns/Tiere der Grassavanne
DESCRIPTION:Die in der ZOOM Erlebniswelt lebenden Breitmaulnashörner zählen zu den bedrohten Tierarten. Um auf ihre Bedrohung aufmerksam zu machen und um über diese Tierart zu informieren, findet am 20. September der „Welttag des Nashorns“ statt. Doch im Mittelpunkt stehen nicht nur die Dickhäuter, sondern auch die mit ihnen auf der Grassavanne lebenden Tiere wie Zebras, Antilopen und Rothalsstrauße. 
CLASS:PUBLIC
DTSTART;TZID=Europe/Berlin:20260920
DTEND;TZID=Europe/Berlin:20260922
DTSTAMP:20060812T125900Z
END:VEVENT
END:VCALENDAR