BEGIN:VCALENDAR
VERSION:2.0
PRODID:http://www.gelsenkirchen.de
METHOD:PUBLISH
BEGIN:VTIMEZONE
TZID:Europe/Berlin
BEGIN:DAYLIGHT
TZOFFSETFROM:+0100
TZOFFSETTO:+0200
DTSTART:19810329T020000
RRULE:FREQ=YEARLY;BYMONTH=3;BYDAY=-1SU
TZNAME:CEST
END:DAYLIGHT
BEGIN:STANDARD
TZOFFSETFROM:+0200
TZOFFSETTO:+0100
DTSTART:19961027T030000
RRULE:FREQ=YEARLY;BYMONTH=10;BYDAY=-1SU
TZNAME:CET
END:STANDARD
END:VTIMEZONE
BEGIN:VEVENT
UID:94178
ORGANIZER;CN="ZOOM Erlebniswelt" :MAILTO:info@zoom-erlebniswelt.de
LOCATION:ZOOM Erlebniswelt, Bleckstraße 64, 45889 Gelsenkirchen
SUMMARY:Großer Entdeckertag
DESCRIPTION:Außergewöhnliche Tiere, naturnah gestaltete Lebensräume und zahlreiche Mitmachaktionen machen die ZOOM Erlebniswelt zu einem faszinierenden Ort für kleine und große Forscher. Am Sonntag, 6. September lädt der „große Entdeckertag“ zu einer abwechslungsreichen Rallye durch den Zoo ein. An vielfältigen Stationen warten spannende Aufgaben, exklusive Einblicke und interessante Informationen rund um Natur- und Artenschutz. Ein Tag voller Abenteuer und Wissen – perfekt für alle, die Tiere und Natur hautnah erleben möchten.
CLASS:PUBLIC
DTSTART;TZID=Europe/Berlin:20260906
DTEND;TZID=Europe/Berlin:20260908
DTSTAMP:20060812T125900Z
END:VEVENT
END:VCALENDAR