BEGIN:VCALENDAR
VERSION:2.0
PRODID:http://www.gelsenkirchen.de
METHOD:PUBLISH
BEGIN:VTIMEZONE
TZID:Europe/Berlin
BEGIN:DAYLIGHT
TZOFFSETFROM:+0100
TZOFFSETTO:+0200
DTSTART:19810329T020000
RRULE:FREQ=YEARLY;BYMONTH=3;BYDAY=-1SU
TZNAME:CEST
END:DAYLIGHT
BEGIN:STANDARD
TZOFFSETFROM:+0200
TZOFFSETTO:+0100
DTSTART:19961027T030000
RRULE:FREQ=YEARLY;BYMONTH=10;BYDAY=-1SU
TZNAME:CET
END:STANDARD
END:VTIMEZONE
BEGIN:VEVENT
UID:94177
ORGANIZER;CN="ZOOM Erlebniswelt" :MAILTO:info@zoom-erlebniswelt.de
LOCATION:ZOOM Erlebniswelt, Bleckstraße 64, 45889 Gelsenkirchen
SUMMARY:Tag der Menschenaffen
DESCRIPTION:Sowohl Schimpansen als auch Sumatra-Orang-Utans zählen laut der Weltnaturschutzorganisation IUCN zu den vom Aussterben bedrohten Tierarten. Am Tag der Menschenaffen stehen die intelligenten Primaten in den Erlebniswelten Asien und Afrika im Mittelpunkt. Freuen Sie sich auf aufregende Fütterungen, interessante Tierpflegergespräche und informative Stationen rund um Artenschutz und die Beschäftigung der Menschenaffen. Ein Tag voller Wissen und Erlebnisse, der die Bedeutung des Schutzes dieser faszinierenden Tiere eindrucksvoll vermittelt.
CLASS:PUBLIC
DTSTART;TZID=Europe/Berlin:20260711
DTEND;TZID=Europe/Berlin:20260713
DTSTAMP:20060812T125900Z
END:VEVENT
END:VCALENDAR