BEGIN:VCALENDAR
VERSION:2.0
PRODID:http://www.gelsenkirchen.de
METHOD:PUBLISH
BEGIN:VTIMEZONE
TZID:Europe/Berlin
BEGIN:DAYLIGHT
TZOFFSETFROM:+0100
TZOFFSETTO:+0200
DTSTART:19810329T020000
RRULE:FREQ=YEARLY;BYMONTH=3;BYDAY=-1SU
TZNAME:CEST
END:DAYLIGHT
BEGIN:STANDARD
TZOFFSETFROM:+0200
TZOFFSETTO:+0100
DTSTART:19961027T030000
RRULE:FREQ=YEARLY;BYMONTH=10;BYDAY=-1SU
TZNAME:CET
END:STANDARD
END:VTIMEZONE
BEGIN:VEVENT
UID:94176
ORGANIZER;CN="ZOOM Erlebniswelt" :MAILTO:info@zoom-erlebniswelt.de
LOCATION:ZOOM Erlebniswelt, Bleckstraße 64, 45889 Gelsenkirchen
SUMMARY:Welttag der Giraffe
DESCRIPTION:Am Sonntag, 21. Juni, dreht sich in der ZOOM Erlebniswelt Gelsenkirchen alles um die faszinierenden Giraffen der Erlebniswelt Afrika. Besucherinnen und Besucher erwartet beim „Welttag der Giraffe“ ein abwechslungsreiches Programm mit exklusiven Einblicken und spannenden Aktionen rund um die sanften Riesen. Ein besonderes Erlebnis für alle, die mehr über die größten landlebenden Säugetiere der Welt erfahren möchten.
CLASS:PUBLIC
DTSTART;TZID=Europe/Berlin:20260621
DTEND;TZID=Europe/Berlin:20260623
DTSTAMP:20060812T125900Z
END:VEVENT
END:VCALENDAR