BEGIN:VCALENDAR
VERSION:2.0
PRODID:http://www.gelsenkirchen.de
METHOD:PUBLISH
BEGIN:VTIMEZONE
TZID:Europe/Berlin
BEGIN:DAYLIGHT
TZOFFSETFROM:+0100
TZOFFSETTO:+0200
DTSTART:19810329T020000
RRULE:FREQ=YEARLY;BYMONTH=3;BYDAY=-1SU
TZNAME:CEST
END:DAYLIGHT
BEGIN:STANDARD
TZOFFSETFROM:+0200
TZOFFSETTO:+0100
DTSTART:19961027T030000
RRULE:FREQ=YEARLY;BYMONTH=10;BYDAY=-1SU
TZNAME:CET
END:STANDARD
END:VTIMEZONE
BEGIN:VEVENT
UID:94174
ORGANIZER;CN="ZOOM Erlebniswelt" :MAILTO:info@zoom-erlebniswelt.de
LOCATION:ZOOM Erlebniswelt, Bleckstraße 64, 45889 Gelsenkirchen
SUMMARY:Großer Artenschutztag
DESCRIPTION:Artenschutz gehört zu den wichtigsten Aufgaben moderner Zoos. Um auf den Erhalt gefährdeter Tierarten aufmerksam zu machen, lädt die ZOOM Erlebniswelt Gelsenkirchen am Samstag, 25. April zu einem besonderen Aktionstag ein. Freuen Sie sich auf spannende Informationen und vielfältige Mitmach-Aktionen, die Groß und Klein für den Schutz der Tierwelt begeistern.
CLASS:PUBLIC
DTSTART;TZID=Europe/Berlin:20260425
DTEND;TZID=Europe/Berlin:20260427
DTSTAMP:20060812T125900Z
END:VEVENT
END:VCALENDAR