BEGIN:VCALENDAR
VERSION:2.0
PRODID:http://www.gelsenkirchen.de
METHOD:PUBLISH
BEGIN:VTIMEZONE
TZID:Europe/Berlin
BEGIN:DAYLIGHT
TZOFFSETFROM:+0100
TZOFFSETTO:+0200
DTSTART:19810329T020000
RRULE:FREQ=YEARLY;BYMONTH=3;BYDAY=-1SU
TZNAME:CEST
END:DAYLIGHT
BEGIN:STANDARD
TZOFFSETFROM:+0200
TZOFFSETTO:+0100
DTSTART:19961027T030000
RRULE:FREQ=YEARLY;BYMONTH=10;BYDAY=-1SU
TZNAME:CET
END:STANDARD
END:VTIMEZONE
BEGIN:VEVENT
UID:94173
ORGANIZER;CN="ZOOM Erlebniswelt" :MAILTO:info@zoom-erlebniswelt.de
LOCATION:ZOOM Erlebniswelt, Bleckstraße 64, 45889 Gelsenkirchen
SUMMARY:Valentinstagsführungen
DESCRIPTION:Lustige Anekdoten und spannendes Wissen rund um das Liebesleben der Tiere: das erwartet Besucherinnen und Besucher bei den Valentinstagsführungen durch die ZOOM Erlebniswelt. Bei einer exklusiven Führung mit einem Zoolotsen werden interessante Fakten über das Liebesleben der Tiere preisgegeben – Schmunzeln garantiert. Das Highlight: Am Ende findet eine Tierfütterung statt.  
CLASS:PUBLIC
DTSTART;TZID=Europe/Berlin:20260214T103000
DTEND;TZID=Europe/Berlin:20260214T123000
DTSTAMP:20060812T125900Z
END:VEVENT
END:VCALENDAR