BEGIN:VCALENDAR
VERSION:2.0
PRODID:http://www.gelsenkirchen.de
METHOD:PUBLISH
BEGIN:VTIMEZONE
TZID:Europe/Berlin
BEGIN:DAYLIGHT
TZOFFSETFROM:+0100
TZOFFSETTO:+0200
DTSTART:19810329T020000
RRULE:FREQ=YEARLY;BYMONTH=3;BYDAY=-1SU
TZNAME:CEST
END:DAYLIGHT
BEGIN:STANDARD
TZOFFSETFROM:+0200
TZOFFSETTO:+0100
DTSTART:19961027T030000
RRULE:FREQ=YEARLY;BYMONTH=10;BYDAY=-1SU
TZNAME:CET
END:STANDARD
END:VTIMEZONE
BEGIN:VEVENT
UID:94125
ORGANIZER;CN="emschertainment GmbH" :MAILTO:info@emschertainment.de
LOCATION:Heilig-Kreuz-Kirche, Bochumer Straße 115, 45886 Gelsenkirchen
SUMMARY:Hagen Rether - LIEBE
DESCRIPTION:In aller Ausführlichkeit verknüpft Rether Aktuelles mit Vergessenem, Nahes mit Fernem, stellt infrage, bestreitet, zweifelt. An zentralen Glaubenssätzen westlicher „Zivilisation“ rüttelt er gründlich, sogenannte Sachzwänge gibt er als kollektive Fiktionen dem Gelächter preis. Mit überraschenden Vergleichen verführt er das Publikum zum Perspektivwechsel – zu einem anderen Blick auf die Welt, in die Zukunft, in den Spiegel, auch unbequemer Wahrheit ins Auge. Und er ruft dazu auf, dass wir uns von unserer vielfach instrumentalisierten Angst und Wut befreien.Rethers LIEBE ist tragisch, komisch, schmerzhaft, ansteckend: Das ständig mutierende Programm mit dem immer gleichen Titel verursacht nachhaltige Unzufriedenheit mit einfachen Erklärungen und stiftet zum Selberdenken und -handeln an. Bis zu dreieinhalb Stunden plädiert der Kabarettist leidenschaftlich für Aufklärung und Mitgefühl, gegen Doppelmoral und konsumselige Wurstigkeit: Wandel ist möglich – wenn wir wollen.Einlass: 18:00 UhrInfos unter: 0209 / 9541 100
CLASS:PUBLIC
DTSTART;TZID=Europe/Berlin:20260213T190000
DTSTAMP:20060812T125900Z
END:VEVENT
END:VCALENDAR