BEGIN:VCALENDAR
VERSION:2.0
PRODID:http://www.gelsenkirchen.de
METHOD:PUBLISH
BEGIN:VTIMEZONE
TZID:Europe/Berlin
BEGIN:DAYLIGHT
TZOFFSETFROM:+0100
TZOFFSETTO:+0200
DTSTART:19810329T020000
RRULE:FREQ=YEARLY;BYMONTH=3;BYDAY=-1SU
TZNAME:CEST
END:DAYLIGHT
BEGIN:STANDARD
TZOFFSETFROM:+0200
TZOFFSETTO:+0100
DTSTART:19961027T030000
RRULE:FREQ=YEARLY;BYMONTH=10;BYDAY=-1SU
TZNAME:CET
END:STANDARD
END:VTIMEZONE
BEGIN:VEVENT
UID:94030
ORGANIZER;CN="RAV Medienagentur UG" 
LOCATION:Kino Essen, Berliner Platz 4/5, 45127 Essen
SUMMARY:AZUBISPOT Essen
DESCRIPTION:Teilnehmende Unternehmen präsentieren spannende Ausbildungen, duale Studiengängen sowie interessante Jobangebote. In angenehmer Kino-Atmosphäre erwarten euch verschiedene Aussteller aus den unterschiedlichsten Branchen. Mit den Unternehmen könnt ihr auf zwei Arten in Kontakt kommen: Zum einen an den Infoständen im Foyer des Kinos. Zum anderen währender der 15-minütigen Live-Präsentationen auf der großen Kinobühne. Auf der Messe kannst du mit unserem Ausbildungs-Team sprechen und dich über unsere zahlreichen Ausbildungsberufe und dualen Studiengänge informieren.
CLASS:PUBLIC
DTSTART;TZID=Europe/Berlin:20261124T083000
DTEND;TZID=Europe/Berlin:20261124T133000
DTSTAMP:20060812T125900Z
END:VEVENT
END:VCALENDAR