BEGIN:VCALENDAR
VERSION:2.0
PRODID:http://www.gelsenkirchen.de
METHOD:PUBLISH
BEGIN:VTIMEZONE
TZID:Europe/Berlin
BEGIN:DAYLIGHT
TZOFFSETFROM:+0100
TZOFFSETTO:+0200
DTSTART:19810329T020000
RRULE:FREQ=YEARLY;BYMONTH=3;BYDAY=-1SU
TZNAME:CEST
END:DAYLIGHT
BEGIN:STANDARD
TZOFFSETFROM:+0200
TZOFFSETTO:+0100
DTSTART:19961027T030000
RRULE:FREQ=YEARLY;BYMONTH=10;BYDAY=-1SU
TZNAME:CET
END:STANDARD
END:VTIMEZONE
BEGIN:VEVENT
UID:93930
ORGANIZER;CN="Förderverein SI Club GE-Buer e.V." :MAILTO:gelsenkirchen@konfettilauf.com
LOCATION:Stadtgebiet Gelsenkirchen und Ruhrgebiet, Kurt-Schumacher-Straße, 45881 Gelsenkirchen
SUMMARY:Konfettilauf 2026 - Gemeinsam aktiv gegen Brustkrebs
DESCRIPTION:Am 25. und 26. April 2026 startet der 5. Konfettilauf in Gelsenkirchen unter der Schirmherrschaft der Oberbürgermeisterin Frau Andrea Henze organisiert vom SorOptimist Club GE-Buer.Jede/r kann mitmachen! Hier steht die Freude an der Bewegung für einen guten Zweck im Vordergrund.Ziel ist es zu Fuß, gehend oder joggend, mit Fahrrad oder Inlinern, alleine oder zusammen mit Familie, Freunden oder Kollegen die Konfettilauf-Banner zu erreichen, die die Sponsoren im gesamten Stadtgebiet Gelsenkirchen aufgehängt haben. Vor den Bannern wird Blütenkonfetti geworfen und die Fotos davon auf Instagram gepostet.
CLASS:PUBLIC
DTSTART;TZID=Europe/Berlin:20260425
DTEND;TZID=Europe/Berlin:20260428
DTSTAMP:20060812T125900Z
END:VEVENT
END:VCALENDAR