BEGIN:VCALENDAR
VERSION:2.0
PRODID:http://www.gelsenkirchen.de
METHOD:PUBLISH
BEGIN:VTIMEZONE
TZID:Europe/Berlin
BEGIN:DAYLIGHT
TZOFFSETFROM:+0100
TZOFFSETTO:+0200
DTSTART:19810329T020000
RRULE:FREQ=YEARLY;BYMONTH=3;BYDAY=-1SU
TZNAME:CEST
END:DAYLIGHT
BEGIN:STANDARD
TZOFFSETFROM:+0200
TZOFFSETTO:+0100
DTSTART:19961027T030000
RRULE:FREQ=YEARLY;BYMONTH=10;BYDAY=-1SU
TZNAME:CET
END:STANDARD
END:VTIMEZONE
BEGIN:VEVENT
UID:93882
ORGANIZER;CN="Präventionsrat Gelsenkirchen" 
LOCATION:Gesamtschule Ückendorf - Aula, Bochumer Straße 190, 45886 Gelsenkirchen
SUMMARY:Sitzung des örtlichen Präventionsrates Ückendorf
DESCRIPTION:Bitte beachten Sie, dass die genaue Startzeit der Veranstaltung mit der Mitteilung durch die Vorsitzenden aktualisiert wird.
CLASS:PUBLIC
DTSTART;TZID=Europe/Berlin:20261209T000000
DTSTAMP:20060812T125900Z
END:VEVENT
END:VCALENDAR