BEGIN:VCALENDAR
VERSION:2.0
PRODID:http://www.gelsenkirchen.de
METHOD:PUBLISH
BEGIN:VTIMEZONE
TZID:Europe/Berlin
BEGIN:DAYLIGHT
TZOFFSETFROM:+0100
TZOFFSETTO:+0200
DTSTART:19810329T020000
RRULE:FREQ=YEARLY;BYMONTH=3;BYDAY=-1SU
TZNAME:CEST
END:DAYLIGHT
BEGIN:STANDARD
TZOFFSETFROM:+0200
TZOFFSETTO:+0100
DTSTART:19961027T030000
RRULE:FREQ=YEARLY;BYMONTH=10;BYDAY=-1SU
TZNAME:CET
END:STANDARD
END:VTIMEZONE
BEGIN:VEVENT
UID:93858
ORGANIZER;CN="Musiktheater im Revier Gelsenkirchen GmbH" 
LOCATION:Musiktheater im Revier (MiR) - Großes Haus, Kennedyplatz, 45881 Gelsenkirchen
SUMMARY:Francesca da Rimini - Gianni Schicchi
DESCRIPTION:Tragisches Ehebruchdrama und urkomische Erbschleicherkomödie – mit diesem Operndoppelpack begeben wir uns auf eine Reise durch das Inferno Dante Alighieris! Der große italienische Dichter selbst durchschreitet in Rachmaninows Oper die Hölle und begegnet inmitten der verdammten Seelen der wohl berühmtesten Ehebrecherin der Kunstgeschichte. Francesca da Rimini verliebte sich einst leidenschaftlich in Paolo, der stellvertretend für seinen Bruder die Ehe mit ihr geschlossen hat. Ihr Ehemann stellte den beiden eine Falle und ertappte sie prompt miteinander. Nicht nur, dass er die Liebenden hierfür ermordete – nun schmoren sie auch noch in der Hölle.Ebendort wird auch der gewitzte Gianni Schicchi landen. Der Titelheld in Puccinis komischer Oper nimmt die Rolle eines kürzlich Verstorbenen ein, um auf Wunsch von dessen habgieriger, Trauer heuchelnder Familie das Testament zu ändern – streicht aber schließlich den größten Anteil selbst ein. Nebenbei kämpft seine Tochter Lauretta mit dem Arienhit „O mio babbino caro“ darum, ihren Liebsten heiraten zu dürfen. So gesellen sich an diesem kurzweiligen Opernabend höllische Klagelaute und spätromantische Leidenschaft (Rachmaninow) zu heuchlerisch falschem Schluchzen, bitterbösem Humor und veristisch-expressionistischer Musik (Puccini).Infos unter: 0209 / 4097 200
CLASS:PUBLIC
DTSTART;TZID=Europe/Berlin:20260425T190000
DTEND;TZID=Europe/Berlin:20260425T210000
DTSTAMP:20060812T125900Z
END:VEVENT
END:VCALENDAR