BEGIN:VCALENDAR
VERSION:2.0
PRODID:http://www.gelsenkirchen.de
METHOD:PUBLISH
BEGIN:VTIMEZONE
TZID:Europe/Berlin
BEGIN:DAYLIGHT
TZOFFSETFROM:+0100
TZOFFSETTO:+0200
DTSTART:19810329T020000
RRULE:FREQ=YEARLY;BYMONTH=3;BYDAY=-1SU
TZNAME:CEST
END:DAYLIGHT
BEGIN:STANDARD
TZOFFSETFROM:+0200
TZOFFSETTO:+0100
DTSTART:19961027T030000
RRULE:FREQ=YEARLY;BYMONTH=10;BYDAY=-1SU
TZNAME:CET
END:STANDARD
END:VTIMEZONE
BEGIN:VEVENT
UID:93748
ORGANIZER;CN="Kunstschule Gelsenkirchen e. V." 
LOCATION:Kunstschule Gelsenkirchen, Neustraße 7, 45891 Gelsenkirchen
SUMMARY:Girls - Mini Frühlings-Gärten -- Dein Garten im Glas
DESCRIPTION:Dies ist ein Kurs für Jugendliche ab 13 Jahren."Hol dir den Frühling nach Hause! In diesem Workshop gestalten wir kleine, individuelle Mini-Gärten in Töpfen, Gläsern oder alten Dosen. Mit schnell trocknender Farbe pimpen wir zuerst die Gefäße bunt und kreativ. Danach befüllen wir sie mit Erde und verschiedenen Pflanzen und dekorieren sie mit Steinen, Moos, Figuren oder Glitzer. Jeder kann seinen Mini-Garten so gestalten, dass er die eigene Persönlichkeit oder Stimmung widerspiegelt – ein kleines Kunstwerk zum Mitnehmen, für dein Zimmer oder als Geschenk. Falls Du magst, kannst du gerne kleine Gegenstände oder Figuren mitbringen, die du in deinem Mini-Garten integrierenmöchtest. "Infos unter: 0209 / 6138 772Kursnr.: JE2
CLASS:PUBLIC
DTSTART;TZID=Europe/Berlin:20260214T100000
DTEND;TZID=Europe/Berlin:20260214T130000
DTSTAMP:20060812T125900Z
END:VEVENT
END:VCALENDAR