BEGIN:VCALENDAR
VERSION:2.0
PRODID:http://www.gelsenkirchen.de
METHOD:PUBLISH
BEGIN:VTIMEZONE
TZID:Europe/Berlin
BEGIN:DAYLIGHT
TZOFFSETFROM:+0100
TZOFFSETTO:+0200
DTSTART:19810329T020000
RRULE:FREQ=YEARLY;BYMONTH=3;BYDAY=-1SU
TZNAME:CEST
END:DAYLIGHT
BEGIN:STANDARD
TZOFFSETFROM:+0200
TZOFFSETTO:+0100
DTSTART:19961027T030000
RRULE:FREQ=YEARLY;BYMONTH=10;BYDAY=-1SU
TZNAME:CET
END:STANDARD
END:VTIMEZONE
BEGIN:VEVENT
UID:93732
ORGANIZER;CN="Kunstschule Gelsenkirchen e. V." 
LOCATION:Kunstschule Gelsenkirchen, Neustraße 7, 45891 Gelsenkirchen
SUMMARY:Mandala und Natur
DESCRIPTION:Dies ist ein Kurs für Kinder ab 8 Jahren.Mandala malen ist eine bewährte Möglichkeit der Entspannung für Kinder. Die kreisförmigen, detailreichen Bilder erlauben es, ganz konzentriert in ein kreatives Tun einzutauchen, ohne viel darüber nachdenken zu müssen, wie und was man gestaltet. In diesem Kurs werden dir unterschiedliche Techniken vorgestellt, wie du Mandalas malen und gestalten kannst. Wir zeigen dir, wie du die Natur in Form von Blüten oder Blättern im Mandala verbinden kannst.Infos unter: 0209 / 6138 772Kursnr.: K7
CLASS:PUBLIC
DTSTART;TZID=Europe/Berlin:20260425T100000
DTEND;TZID=Europe/Berlin:20260425T130000
DTSTAMP:20060812T125900Z
END:VEVENT
END:VCALENDAR