BEGIN:VCALENDAR
VERSION:2.0
PRODID:http://www.gelsenkirchen.de
METHOD:PUBLISH
BEGIN:VTIMEZONE
TZID:Europe/Berlin
BEGIN:DAYLIGHT
TZOFFSETFROM:+0100
TZOFFSETTO:+0200
DTSTART:19810329T020000
RRULE:FREQ=YEARLY;BYMONTH=3;BYDAY=-1SU
TZNAME:CEST
END:DAYLIGHT
BEGIN:STANDARD
TZOFFSETFROM:+0200
TZOFFSETTO:+0100
DTSTART:19961027T030000
RRULE:FREQ=YEARLY;BYMONTH=10;BYDAY=-1SU
TZNAME:CET
END:STANDARD
END:VTIMEZONE
BEGIN:VEVENT
UID:93589
ORGANIZER;CN="Stadt Gelsenkirchen - Referat Kinder, Jugend und Familien - Team Familienförderung/Familienbildung (51/3.2)" :MAILTO:familienbuero@gelsenkirchen.de
LOCATION:Städt. Tageseinrichtung für Kinder und Familienzentrum Herforder Str. 7, Herforder Str. 7, 45892 Gelsenkirchen
SUMMARY:Bodentieren auf der Spur
DESCRIPTION:Welche Tiere leben auf dem Waldboden? Was macht sie aus? Wir bestaunen die kleinen Lebewesen mit Hilfe von Becherlupen. Hier leben nicht nur Schnecken, sondern auch kleine Tiere mit Rüstung… Lass Dich überraschen.Info: Familienförderung unter Telefon 169-9433, Frau HinzZur Anmeldung
CLASS:PUBLIC
DTSTART;TZID=Europe/Berlin:20260530T100000
DTEND;TZID=Europe/Berlin:20260530T120000
DTSTAMP:20060812T125900Z
END:VEVENT
END:VCALENDAR