BEGIN:VCALENDAR
VERSION:2.0
PRODID:http://www.gelsenkirchen.de
METHOD:PUBLISH
BEGIN:VTIMEZONE
TZID:Europe/Berlin
BEGIN:DAYLIGHT
TZOFFSETFROM:+0100
TZOFFSETTO:+0200
DTSTART:19810329T020000
RRULE:FREQ=YEARLY;BYMONTH=3;BYDAY=-1SU
TZNAME:CEST
END:DAYLIGHT
BEGIN:STANDARD
TZOFFSETFROM:+0200
TZOFFSETTO:+0100
DTSTART:19961027T030000
RRULE:FREQ=YEARLY;BYMONTH=10;BYDAY=-1SU
TZNAME:CET
END:STANDARD
END:VTIMEZONE
BEGIN:VEVENT
UID:93579
ORGANIZER;CN="Stadt Gelsenkirchen - Referat Kinder, Jugend und Familien - Team Familienförderung/Familienbildung (51/3.2)" :MAILTO:familienbuero@gelsenkirchen.de
LOCATION:Stadtgarten Gelsenkirchen, Zeppelinallee, 45879 Gelsenkirchen
SUMMARY:Schnitzeljagd - Vater-Kind-Aktion
DESCRIPTION:Heute ist Rätseljagd! Während der Rallye testest du dein Wissen, löst sportliche Aufgaben und knackst knifflige Fragen. Wie kannst du das Alter eines Baumes bestimmen? Warum sind Pflanzen grün? Diesen und weiteren Fragen gehen wir auf den Grund.Info: Familienförderung unter Telefon 169-9564, Frau VollmerZur Anmeldung
CLASS:PUBLIC
DTSTART;TZID=Europe/Berlin:20260530T150000
DTEND;TZID=Europe/Berlin:20260530T170000
DTSTAMP:20060812T125900Z
END:VEVENT
END:VCALENDAR