BEGIN:VCALENDAR
VERSION:2.0
PRODID:http://www.gelsenkirchen.de
METHOD:PUBLISH
BEGIN:VTIMEZONE
TZID:Europe/Berlin
BEGIN:DAYLIGHT
TZOFFSETFROM:+0100
TZOFFSETTO:+0200
DTSTART:19810329T020000
RRULE:FREQ=YEARLY;BYMONTH=3;BYDAY=-1SU
TZNAME:CEST
END:DAYLIGHT
BEGIN:STANDARD
TZOFFSETFROM:+0200
TZOFFSETTO:+0100
DTSTART:19961027T030000
RRULE:FREQ=YEARLY;BYMONTH=10;BYDAY=-1SU
TZNAME:CET
END:STANDARD
END:VTIMEZONE
BEGIN:VEVENT
UID:93008
ORGANIZER;CN="Wirtschaftsförderung Gelsenkirchen" 
LOCATION:Spotlight Gelsenkirchen, Arminstr. 15, 45879 Gelsenkirchen
SUMMARY:Ladies in Business
DESCRIPTION:Austausch, Inspiration, starke Kontakte für Unternehmerinnen, Selbstständige, Gründerinnen und Führungskräfte.Freuen Sie sich auf ein Netzwerktreffen in lockerer Atmosphäre. Seien Sie dabei und stärken die Frauenpower in unserer Stadt!Der nächste Termin findet am 3. Februar 2026 von 18:30 bis 21:00 Uhr im Café SPOTLIGHT in der Arminstraße 15, 45879 Gelsenkirchen statt.Interessentinnen können sich melden bei: Miriam Axen, 0209 169-5734, miriam.axen@gelsenkirchen.de  
CLASS:PUBLIC
DTSTART;TZID=Europe/Berlin:20260203T183000
DTEND;TZID=Europe/Berlin:20260203T210000
DTSTAMP:20060812T125900Z
END:VEVENT
END:VCALENDAR