BEGIN:VCALENDAR
VERSION:2.0
PRODID:http://www.gelsenkirchen.de
METHOD:PUBLISH
BEGIN:VTIMEZONE
TZID:Europe/Berlin
BEGIN:DAYLIGHT
TZOFFSETFROM:+0100
TZOFFSETTO:+0200
DTSTART:19810329T020000
RRULE:FREQ=YEARLY;BYMONTH=3;BYDAY=-1SU
TZNAME:CEST
END:DAYLIGHT
BEGIN:STANDARD
TZOFFSETFROM:+0200
TZOFFSETTO:+0100
DTSTART:19961027T030000
RRULE:FREQ=YEARLY;BYMONTH=10;BYDAY=-1SU
TZNAME:CET
END:STANDARD
END:VTIMEZONE
BEGIN:VEVENT
UID:92666
ORGANIZER;CN="HR Veranstaltungsgesellschaft mbH" 
LOCATION:Hans-Sachs-Haus, Ebertstraße 11, 45879 Gelsenkirchen
SUMMARY:Jobmesse Kompakt Gelsenkirchen
DESCRIPTION:Die Jobmesse Kompakt ist ein effizientes Messeformat für mittelgroße Städte. Arbeitgeber aus der Region treffen hier direkt auf Fachkräfte, Auszubildende, Studierende und Quereinsteiger. Mit klarer Fokussierung auf das Wesentliche: persönliche Gespräche, echte Kontakte und regionale Chancen.Der Eintritt ist für Besucherinnen und Besucher kostenfrei.
CLASS:PUBLIC
DTSTART;TZID=Europe/Berlin:20260930T100000
DTEND;TZID=Europe/Berlin:20260930T160000
DTSTAMP:20060812T125900Z
END:VEVENT
END:VCALENDAR