BEGIN:VCALENDAR
VERSION:2.0
PRODID:http://www.gelsenkirchen.de
METHOD:PUBLISH
BEGIN:VTIMEZONE
TZID:Europe/Berlin
BEGIN:DAYLIGHT
TZOFFSETFROM:+0100
TZOFFSETTO:+0200
DTSTART:19810329T020000
RRULE:FREQ=YEARLY;BYMONTH=3;BYDAY=-1SU
TZNAME:CEST
END:DAYLIGHT
BEGIN:STANDARD
TZOFFSETFROM:+0200
TZOFFSETTO:+0100
DTSTART:19961027T030000
RRULE:FREQ=YEARLY;BYMONTH=10;BYDAY=-1SU
TZNAME:CET
END:STANDARD
END:VTIMEZONE
BEGIN:VEVENT
UID:91229
ORGANIZER;CN="Musiktheater im Revier Gelsenkirchen GmbH" 
LOCATION:Musiktheater im Revier - Ballettsaal, Kennedyplatz, 45881 Gelsenkirchen
SUMMARY:TANZ.MIT
DESCRIPTION:Es kribbelt in den Beinen, wenn Sie die Company tanzen sehen? Dann sind Sie hier genau richtig. An ausgewählten Terminen laden Tänzer*innen der Dance Company, Ballettmeister Tenald Zace oder Direktor Giuseppe Spota selbst zu einem Tanz-Workshop ein. Erforderlich ist nur bequeme Kleidung und Neugier. Das Angebot richtet sich gezielt an erwachsene Tanz-Fans.It tingles in your legs when you see the company dancing? Then you've come to the right place. On selected dates, dancers from the Dance Company, Tenald Zace or the director Giuseppe Spota himself invite you to a dance workshop. All that is required is comfortable clothing and curiosity. The offer is aimed specifically at adult dance fans.Infos unter: 0209 / 4097 200
CLASS:PUBLIC
DTSTART;TZID=Europe/Berlin:20260516T170000
DTSTAMP:20060812T125900Z
END:VEVENT
END:VCALENDAR