BEGIN:VCALENDAR
VERSION:2.0
PRODID:http://www.gelsenkirchen.de
METHOD:PUBLISH
BEGIN:VTIMEZONE
TZID:Europe/Berlin
BEGIN:DAYLIGHT
TZOFFSETFROM:+0100
TZOFFSETTO:+0200
DTSTART:19810329T020000
RRULE:FREQ=YEARLY;BYMONTH=3;BYDAY=-1SU
TZNAME:CEST
END:DAYLIGHT
BEGIN:STANDARD
TZOFFSETFROM:+0200
TZOFFSETTO:+0100
DTSTART:19961027T030000
RRULE:FREQ=YEARLY;BYMONTH=10;BYDAY=-1SU
TZNAME:CET
END:STANDARD
END:VTIMEZONE
BEGIN:VEVENT
UID:91002
ORGANIZER;CN="Kommunales Kino (KoKi)" 
LOCATION:Schauburg Filmpalast, Horster Straße 6, 45897 Gelsenkirchen
SUMMARY:Toni und Helene (80 Plus)
DESCRIPTION:Komödie / Drama von Gerhard Ertl und Sabine Hiebler mit: Christine Ostermayer, Margarethe Tiesel, Julia Koschitz, Manuel Rubey, Thomas Mraz, Petra Morzé, Julia Jelinek u. a.; A/D 2024, 95 Min.; FSK: ab 6 J.Die einst gefeierte Theaterdiva Helene (Christine Ostermayer) lebt zurückgezogen in einer Seniorenresidenz. Mit weit über 80 und der Diagnose einer unheilbaren Krankheit hat sie sich bereits einen Termin in einer Schweizer Sterbeklinik organisiert. Sie möchte mit ihrem Jaguar anreisen, kann das Auto aber nicht mehr selbst fahren. Das Schicksal bringt unerwartet Toni (Margarete Tiesel) ins Spiel, eine patente Lebenskünstlerin, die sich nach einem Sturz in der Seniorenresidenz erholt. Die anfängliche Abneigung der beiden Zimmernachbarinnen weicht langsam einer ziemlich besten Freundschaft. Und so sitzt das ungleiche Damen-Duo bald im stattlichen Oldtimer und fährt gen Schweiz.„TONI UND HELENE beweist, dass sehr viel Können vonnöten ist, um mit Leichtigkeit schwere Themen zu behandeln. Der Film widmet sich dem Wunsch, das eigene Leben bis zum Schluss selbstbestimmt führen zu können. Alter, Krankheit, Sterbehilfe – das Skript und die Inszenierung zeigen Feingefühl im Umgang mit den ‚letzten Fragen‘, die sich Menschen zwangsläufig stellen müssen. Der Humor relativiert die Ernsthaftigkeit nicht, sondern erobert sich stimmig seinen Platz in diesen Reflexionen. Gelungen ist auch, wie hier immer wieder auf Altersdiskriminierung hingewiesen wird – und wie die beiden Titelheldinnen mit zunehmendem Mut Wege entdecken, darauf zu reagieren.“Präsentiert in der KoKi-Reihe "Unterwegs".
CLASS:PUBLIC
DTSTART;TZID=Europe/Berlin:20251007T201500
DTSTAMP:20060812T125900Z
END:VEVENT
END:VCALENDAR