BEGIN:VCALENDAR
VERSION:2.0
PRODID:http://www.gelsenkirchen.de
METHOD:PUBLISH
BEGIN:VTIMEZONE
TZID:Europe/Berlin
BEGIN:DAYLIGHT
TZOFFSETFROM:+0100
TZOFFSETTO:+0200
DTSTART:19810329T020000
RRULE:FREQ=YEARLY;BYMONTH=3;BYDAY=-1SU
TZNAME:CEST
END:DAYLIGHT
BEGIN:STANDARD
TZOFFSETFROM:+0200
TZOFFSETTO:+0100
DTSTART:19961027T030000
RRULE:FREQ=YEARLY;BYMONTH=10;BYDAY=-1SU
TZNAME:CET
END:STANDARD
END:VTIMEZONE
BEGIN:VEVENT
UID:90890
ORGANIZER;CN="GeOrgel c/o Stefan Demming" 
LOCATION:Gelsenkirchen-Ückendorf entlang der Bochumer Straße, Bochumer Straße, 45886 Gelsenkirchen
SUMMARY:The walking mountain
DESCRIPTION:Performance auf der Bochumerstrasse mit Camilo PachónEine kollektive Performance zwischen zwischen Beerdigungs- und Demonstrationszug: wir bauen einen sehr grossen Kohleklumpen und tragen ihn durch die Strasse(n)."Es geht um Kohle. Du weisst Bescheid – gerade hier in Gelsenkirchen, damals ein Motor im Ruhrgebiet: 150 Jahre Stadt aus der Kohle geboren, Aufstieg und Turbine – auch im Nationalsozialismus – Zerbombung und Wiederaufstieg. Im Wirtschaftswunder war Gelsenkirchen voller Kohle, die Bahnhofsstrasse einer der umsatzstärksten in ganz Deutschland – Geschichte. Heute haben auch die „Ruhrpott“-T-shirt tragenden Typen höchstens noch Eltern, die im Bergbau malochten und Kohle ist Mangelware in der einkommensschwächsten Stadt Deutschlands. Zeit über Kohle zu reden –  in alle Richtungen. Werfen wir mit Kultur und ihrer Förderung die Kohle aus dem Fenster, bleiben Rendite abstrakte Kategorien und wie schaffen wir es, die Kohlen aus dem Feuer zu holen? Eine kollektive Performance zwischen zwischen Beerdigungs- und Demonstrationszug: wir bauen einen sehr grossen Kohleklumpen und tragen ihn durch die Strasse(n). Interessierte sind eingeladen, im Vorfeld im Open Studio GeOrgel bei der Produktion des Kohleklumpens mitzuwirken.Camilo Pachón (*1985 in Bogotá) ist ein multidisziplinär arbeitender Künstler, der die rituellen, politischen, spirituellen und transformativen Dimensionen der Maske als allgegenwärtiges kulturelles Artefakt untersucht. mehr Camilo war Stipendiat von Urbane Künste Ruhr im Healing Complex in GE-Erle 2024."Eine künstlerische Aktion im Rahmen der Schaustelle in Kooperation mit dem Stadtteilbüro Bochumer Straße. Kurration erfolgt durch Stefan Demming.
CLASS:PUBLIC
DTSTART;TZID=Europe/Berlin:20250920T160000
DTEND;TZID=Europe/Berlin:20250920T190000
DTSTAMP:20060812T125900Z
END:VEVENT
END:VCALENDAR