BEGIN:VCALENDAR
VERSION:2.0
PRODID:http://www.gelsenkirchen.de
METHOD:PUBLISH
BEGIN:VTIMEZONE
TZID:Europe/Berlin
BEGIN:DAYLIGHT
TZOFFSETFROM:+0100
TZOFFSETTO:+0200
DTSTART:19810329T020000
RRULE:FREQ=YEARLY;BYMONTH=3;BYDAY=-1SU
TZNAME:CEST
END:DAYLIGHT
BEGIN:STANDARD
TZOFFSETFROM:+0200
TZOFFSETTO:+0100
DTSTART:19961027T030000
RRULE:FREQ=YEARLY;BYMONTH=10;BYDAY=-1SU
TZNAME:CET
END:STANDARD
END:VTIMEZONE
BEGIN:VEVENT
UID:90457
ORGANIZER;CN="Kunstkiosk" 
LOCATION:Kunstkiosk, Nordring 33, 45894 Gelsenkirchen-Buer
SUMMARY:Kunstkarawane
DESCRIPTION:Die Namen der Künstlerinnen und Künstler, die ihre Werke ausstellen werden, wird auf den Websites von Elke Holland und dem Kunstkiosk am Tag nach der Karawane am 13.9. bekanntgeben. Deshalb der Aufruf an die Kunstschaffenden in Gelsenkirchen und Umgebung: Nicht so schüchtern, es gibt sicherlich noch viele kreative Leute, die gesehen werden wollen.Öffnungszeiten: Sa. 14:00 - 17:00 UhrInfos unter: 0209 / 933 2929
CLASS:PUBLIC
DTSTART;TZID=Europe/Berlin:20250913
DTEND;TZID=Europe/Berlin:20250929
DTSTAMP:20060812T125900Z
END:VEVENT
END:VCALENDAR