BEGIN:VCALENDAR
VERSION:2.0
PRODID:http://www.gelsenkirchen.de
METHOD:PUBLISH
BEGIN:VTIMEZONE
TZID:Europe/Berlin
BEGIN:DAYLIGHT
TZOFFSETFROM:+0100
TZOFFSETTO:+0200
DTSTART:19810329T020000
RRULE:FREQ=YEARLY;BYMONTH=3;BYDAY=-1SU
TZNAME:CEST
END:DAYLIGHT
BEGIN:STANDARD
TZOFFSETFROM:+0200
TZOFFSETTO:+0100
DTSTART:19961027T030000
RRULE:FREQ=YEARLY;BYMONTH=10;BYDAY=-1SU
TZNAME:CET
END:STANDARD
END:VTIMEZONE
BEGIN:VEVENT
UID:90226
ORGANIZER;CN="Koproduktion von Organismendemokratie / Organisms Democracy e. V. und Consol Theater. 240 Bismarckstraße, 45889, Gelsenkirchen" 
LOCATION:Consol Theater, Bismarckstraße 240, 45889 Gelsenkirchen
SUMMARY:Botschafterinnen der Lebewesen - Organismendemokratie Consol
DESCRIPTION:“Botschafterinnen der Lebewesen“ sind Menschen, die anderen Lebewesen ihre Stimme geben, damit diese in die konkrete Entwicklung von Gemeinschaften bzw. Ökosystemen miteinbezogen werden. Die Botschafter*innen in Gelsenkirchen widmen sich zunächst den Interessen der Arten des Consol Parks, denn hier wurde in Kooperation mit dem Consol Theater und Urbane Künste Ruhr bereits 2021 eine Organismendemokratie gegründet. Die Botschafter*innen diskutieren den geplanten Schulneubau im Consol Park und erarbeiten Abstimmungsfragen für den "Volksentscheid der Lebewesen", der am 26. September im Consol Theater stattfinden wird. Alle Altersgruppen willkommen!Eintritt frei, um Anmeldung wird gebeten: consol@organismendemokratie.org
CLASS:PUBLIC
DTSTART;TZID=Europe/Berlin:20250905T180000
DTSTAMP:20060812T125900Z
END:VEVENT
END:VCALENDAR