BEGIN:VCALENDAR
VERSION:2.0
PRODID:http://www.gelsenkirchen.de
METHOD:PUBLISH
BEGIN:VTIMEZONE
TZID:Europe/Berlin
BEGIN:DAYLIGHT
TZOFFSETFROM:+0100
TZOFFSETTO:+0200
DTSTART:19810329T020000
RRULE:FREQ=YEARLY;BYMONTH=3;BYDAY=-1SU
TZNAME:CEST
END:DAYLIGHT
BEGIN:STANDARD
TZOFFSETFROM:+0200
TZOFFSETTO:+0100
DTSTART:19961027T030000
RRULE:FREQ=YEARLY;BYMONTH=10;BYDAY=-1SU
TZNAME:CET
END:STANDARD
END:VTIMEZONE
BEGIN:VEVENT
UID:90199
ORGANIZER;CN="emschertainment GmbH" :MAILTO:info@emschertainment.de
LOCATION:Kaue Gelsenkirchen, Wilhelminenstraße 176, 45881 Gelsenkirchen
SUMMARY:Okan Seese – Lieber taub als gar kein Vogel!
DESCRIPTION:Okan Seese, der gehörlose Gebärdensprachpoet, Komiker, Schauspieler und noch so vieles mehr.Gekonnt spielt er mit Stereotypen, nur um sie im nächsten Moment wieder zu brechen. Sein Humor ist überraschend, seine Mimik zum Verlieben. Okan nimmt uns alle mit in eine faszinierende Welt mit einer starken Community, einer reichen Kultur und einer eigenen ausdrucksstarken Sprache.Okan Seese ist Deutschlands einziger tauber Komiker, der auch für hörende Zuschauer spielt. In seiner Soloshow „Lieber taub als gar kein Vogel“ wird die Erwartungshaltung auf den Kopf gestellt: Ein Dolmetscher, der nicht pro Stunde, sondern pro Lacher bezahlt wird, übersetzt die Gebärden für die Zuschauer. Und Okan zahlt nur für Lacher, die er auch hören kann.Sie fragen sich, ob Taube etwas mit Musik anfangen können? Wie sie ihren Wecker hören? Oder ob sie überhaupt Auto fahren dürfen? Wie telefonieren eigentlich taube Menschen?! Können sie den Notruf wählen? Und törnt sie Stöhnen beim Sex an?Mit großer Selbstironie und aus — für den Hörenden — ungewohnter Perspektive spricht …Verzeihung: erzählt Okan aus seinem Alltag.Er über sich: „Taub, schwul, halber Türke. Mein Blick auf die Dinge entspichrt selten der sogenannten Norm. Diversität ist Bestandteil meiner Existenz, Kunst in ihrer Vielfalt ist für mich eine lebenswichtige Ausdrucksform.Die Besonderheit: Programm wird in Gebärdensprache dargeboten und für alle Hörenden übersetzt.
CLASS:PUBLIC
DTSTART;TZID=Europe/Berlin:20250913T200000
DTSTAMP:20060812T125900Z
END:VEVENT
END:VCALENDAR