BEGIN:VCALENDAR
VERSION:2.0
PRODID:http://www.gelsenkirchen.de
METHOD:PUBLISH
BEGIN:VTIMEZONE
TZID:Europe/Berlin
BEGIN:DAYLIGHT
TZOFFSETFROM:+0100
TZOFFSETTO:+0200
DTSTART:19810329T020000
RRULE:FREQ=YEARLY;BYMONTH=3;BYDAY=-1SU
TZNAME:CEST
END:DAYLIGHT
BEGIN:STANDARD
TZOFFSETFROM:+0200
TZOFFSETTO:+0100
DTSTART:19961027T030000
RRULE:FREQ=YEARLY;BYMONTH=10;BYDAY=-1SU
TZNAME:CET
END:STANDARD
END:VTIMEZONE
BEGIN:VEVENT
UID:90170
ORGANIZER;CN="Ruhr Events" 
LOCATION:Gemeindesaal St. Laurentius, Zum Bauverein 32, 45899 Gelsenkirchen
SUMMARY:Horster Musiknacht
DESCRIPTION:Nach der grandiosen Auftaktveranstaltung im vergangenen Jahr geht die Horster Musiknacht nun in die zweite Runde im ehrwürdigen Gemeindesaal St. Laurentius.Präsentiert von Ruhr Events und Zukunft Horst e.V.  - tolle Horster Künstler, die verschiedene Musikgenres präsentieren  - 6 Stunden Programm. - Kühle und nicht so kühle Getränke - tolles Essen - Chill - Out Areas - Fotobox für die unvergesslichen Momente...in Horst treffen sich halt Freunde!
CLASS:PUBLIC
DTSTART;TZID=Europe/Berlin:20251002T190000
DTSTAMP:20060812T125900Z
END:VEVENT
END:VCALENDAR