BEGIN:VCALENDAR
VERSION:2.0
PRODID:http://www.gelsenkirchen.de
METHOD:PUBLISH
BEGIN:VTIMEZONE
TZID:Europe/Berlin
BEGIN:DAYLIGHT
TZOFFSETFROM:+0100
TZOFFSETTO:+0200
DTSTART:19810329T020000
RRULE:FREQ=YEARLY;BYMONTH=3;BYDAY=-1SU
TZNAME:CEST
END:DAYLIGHT
BEGIN:STANDARD
TZOFFSETFROM:+0200
TZOFFSETTO:+0100
DTSTART:19961027T030000
RRULE:FREQ=YEARLY;BYMONTH=10;BYDAY=-1SU
TZNAME:CET
END:STANDARD
END:VTIMEZONE
BEGIN:VEVENT
UID:89924
ORGANIZER;CN="Referat Kultur (Erlebnismuseum Schloss Horst), in Zusammenarbeit mit dem Förderverein Schloß Horst e.V., der Stadtteilbibliothek Gelsenkirchen-Horst und der Historischen Druckwerkstatt Offizin Schloss Horst." 
LOCATION:Schloss Horst, Museum und Vorburg, Turfstraße 21, 45899 Gelsenkirchen
SUMMARY:Türen auf mit der Maus -  SpielZeit
DESCRIPTION:Komm mit uns auf eine ZEITreise voller SPIEL und Spaß! Am Maus-Türöffner-Tag kannst du im und am Schloss Horst viele Spiele ausprobieren, wie sie Kinder auch vor 450 Jahren gespielt haben. Du kannst Armbrust schießen, eine Brücke wie Leonardo da Vinci bauen oder Spielsachen aus Ton basteln. Natürlich kannst du auch das Schloss erkunden und erfahren, wie die Menschen hier gelebt, gearbeitet und auch gespielt haben.Gemeinsam mit der Stadtteilbibliothek Horst, der Historischen Druckwerkstatt und dem Förderverein Schloß Horst e.V. feiern wir dieses schöne, große Fest. So findet ihr vor dem Schloss auf der Vorburg ein historisches Kinderkarussel, ein Märchenzelt und Musik vom „Spielmann Michel“. In der Bibliothek auf der Vorburg könnt ihr basteln und die Historische Druckwerkstatt erkunden.Wie jedes Jahr bleibt es spannend, ob die Maus zu uns kommt!
CLASS:PUBLIC
DTSTART;TZID=Europe/Berlin:20251003T110000
DTEND;TZID=Europe/Berlin:20251003T180000
DTSTAMP:20060812T125900Z
END:VEVENT
END:VCALENDAR