BEGIN:VCALENDAR
VERSION:2.0
PRODID:http://www.gelsenkirchen.de
METHOD:PUBLISH
BEGIN:VTIMEZONE
TZID:Europe/Berlin
BEGIN:DAYLIGHT
TZOFFSETFROM:+0100
TZOFFSETTO:+0200
DTSTART:19810329T020000
RRULE:FREQ=YEARLY;BYMONTH=3;BYDAY=-1SU
TZNAME:CEST
END:DAYLIGHT
BEGIN:STANDARD
TZOFFSETFROM:+0200
TZOFFSETTO:+0100
DTSTART:19961027T030000
RRULE:FREQ=YEARLY;BYMONTH=10;BYDAY=-1SU
TZNAME:CET
END:STANDARD
END:VTIMEZONE
BEGIN:VEVENT
UID:89900
ORGANIZER;CN="Stadt Gelsenkirchen - Referat Kultur" :MAILTO:referat.kultur@gelsenkirchen.de
LOCATION:Stadtgarten Gelsenkirchen - Musikpavillon, Zeppelinallee, 45879 Gelsenkirchen
SUMMARY:SommerSound: Marion & Sobo Band
DESCRIPTION:Geboren aus der Begeisterung für das Reisen und für Sprachen erschafft das französisch-deutschpolnische Ensemble seinen eigenen modernen Stil aus vokalem Gypsy Jazz, globaler Musik und Chanson. Dabei handelt es sich nicht um das bloße Aneinanderreihen kultureller Versatzstücke, sondern um gefühlte lebendige Realität: Die Musiker sehen sich als Bürger Europas und der Welt. Marion &amp; Sobo Band singt und spielt mit viel Charme, Humor, Leichtigkeit und Spielfreude für ein kultur- und generationsübergreifendes Publikum. »Wir reisen. Wir entdecken. Wir spielen« ist ihr Motto, und mit ihrer Musik präsentiert die Marion &amp; Sobo Band ein fesselndes, zugleich verspieltes mehrsprachiges Programm voller Fantasie, Humor und farbiger Musik. Neben ihren Eigenkompositionen interpretieren sie auch einige Klassiker als Hommage an ihre musikalischen Wurzeln von West- und Ost-Europa zwischen dem französischen Swing der 1930er bis hin zu den traditionellen Melodien des Balkan.
CLASS:PUBLIC
DTSTART;TZID=Europe/Berlin:20250817T193000
DTSTAMP:20060812T125900Z
END:VEVENT
END:VCALENDAR